BEGIN:VCALENDAR
VERSION:2.0
PRODID:-//ChamberMaster//Event Calendar 2.0//EN
METHOD:PUBLISH
X-PUBLISHED-TTL:P3D
REFRESH-INTERVAL:P3D
CALSCALE:GREGORIAN
BEGIN:VEVENT
DTSTART:20181111T180000Z
DTEND:20181111T210000Z
X-MICROSOFT-CDO-ALLDAYEVENT:FALSE
SUMMARY:Temple Turns 100!
DESCRIPTION:What's to describe? The best flipping coffee cafe and ice cream shop in La Porte is becoming a centenarian and we're celebrating!\n\n\n\nOur house will be open! Come in\, sample some of our delicious Intelligentsia Coffee and specialty drinks\, check out all of the changes\, and potentially say hello to some of our old friends and new.\n\n\n\n100 years takes a lot of time and energy by a lot of people. Temple wouldn't be here without all of you!
X-ALT-DESC;FMTTYPE=text/html:<span style="color: rgb(29\, 33\, 41)\; font-family: Helvetica\, Arial\, sans-serif\; font-size: 14px\; background-color: rgb(255\, 255\, 255)\;">What&#39\;s to describe? The best flipping coffee cafe and ice cream shop in La Porte is becoming a centenarian and we&#39\;re celebrating!</span><br style="color: rgb(29\, 33\, 41)\; font-family: Helvetica\, Arial\, sans-serif\; font-size: 14px\; background-color: rgb(255\, 255\, 255)\;" />\n<br style="color: rgb(29\, 33\, 41)\; font-family: Helvetica\, Arial\, sans-serif\; font-size: 14px\; background-color: rgb(255\, 255\, 255)\;" />\n<span style="color: rgb(29\, 33\, 41)\; font-family: Helvetica\, Arial\, sans-serif\; font-size: 14px\; background-color: rgb(255\, 255\, 255)\;">Our house will be open! Come in\, sample some of our delicious Intelligentsia Coffee and specialty drinks\, check out all of the changes\, and potentially say hello to some of our old friends and new.</span><br style="color: rgb(29\, 33\, 41)\; font-family: Helvetica\, Arial\, sans-serif\; font-size: 14px\; background-color: rgb(255\, 255\, 255)\;" />\n<br style="color: rgb(29\, 33\, 41)\; font-family: Helvetica\, Arial\, sans-serif\; font-size: 14px\; background-color: rgb(255\, 255\, 255)\;" />\n<span style="color: rgb(29\, 33\, 41)\; font-family: Helvetica\, Arial\, sans-serif\; font-size: 14px\; background-color: rgb(255\, 255\, 255)\;">100 years takes a lot of time and energy by a lot of people. Temple wouldn&#39\;t be here without all of you!</span>
LOCATION:816 Jefferson Ave. La Porte\, IN 46350
UID:e.1949.4267
SEQUENCE:3
DTSTAMP:20260424T005225Z
URL:https://members.laportepartnership.com/events/details/temple-turns-100-4267
END:VEVENT

END:VCALENDAR
