BEGIN:VCALENDAR
VERSION:2.0
PRODID:-//ChamberMaster//Event Calendar 2.0//EN
METHOD:PUBLISH
X-PUBLISHED-TTL:P3D
REFRESH-INTERVAL:P3D
CALSCALE:GREGORIAN
BEGIN:VEVENT
DTSTART:20170803T140000Z
DTEND:20170803T200000Z
X-MICROSOFT-CDO-ALLDAYEVENT:FALSE
SUMMARY:Test Drive a Buick- Junior Achievement serving La Porte County
DESCRIPTION:MARK YOUR CALENDAR for Thursday Aug 3rd!\n\nJunior Achievement serving LaPorte County is partnering with Sauer Buick and LaPorte High School  on Thursday Aug. 3rd from 9am -3pm for a "Test Drive a New Buick" Event.  Everyone is Welcome    The More People Who Test Drive\, the More Money Earned to Support Junior Achievement and LaPorte High School Programs.  It will only take a few minutes of your time and that time will be $20 back to great organizations to support the youth of LaPorte\n\nPlease share this with all your family\, friends\, co-workers\, neighbors and anyone else you know   even post on your Social Media.  What a FUN and EASY way to GIVE BACK!\n\nWe look forward to seeing you on August 3rd.
X-ALT-DESC;FMTTYPE=text/html:<span style="color:#1F497D\;">MARK YOUR CALENDAR for Thursday Aug 3<sup>rd</sup>!</span><br />\n<span style="color:#1F497D\;">Junior Achievement serving LaPorte County is partnering with Sauer Buick and LaPorte High School &nbsp\;on Thursday Aug. 3<sup>rd</sup> from 9am -3pm for a &ldquo\;Test Drive a New Buick&rdquo\; Event.&nbsp\; Everyone is Welcome &hellip\;&nbsp\; The More People Who Test Drive\, the More Money Earned to Support Junior Achievement and LaPorte High School Programs.&nbsp\; It will only take a few minutes of your time and that time will be $20 back to great organizations to support the youth of LaPorte</span><br />\n<span style="color:#1F497D\;">Please share this with all your family\, friends\, co-workers\, neighbors and anyone else you know &ndash\; even post on your Social Media.&nbsp\; What a FUN and EASY way to GIVE BACK!</span><br />\n<span style="color:#1F497D\;">We look forward to seeing you on August 3<sup>rd</sup>.</span>
LOCATION:La Porte High School 602 F Street La Porte
UID:e.1949.2841
SEQUENCE:3
DTSTAMP:20260425T021732Z
URL:https://members.laportepartnership.com/events/details/test-drive-a-buick-junior-achievement-serving-la-porte-county-2841
END:VEVENT

END:VCALENDAR
