BEGIN:VCALENDAR
VERSION:2.0
PRODID:-//ChamberMaster//Event Calendar 2.0//EN
METHOD:PUBLISH
X-PUBLISHED-TTL:P3D
REFRESH-INTERVAL:P3D
CALSCALE:GREGORIAN
BEGIN:VEVENT
DTSTART:20171206T170000Z
DTEND:20171206T190000Z
X-MICROSOFT-CDO-ALLDAYEVENT:FALSE
SUMMARY:Thank You\, Non-Profits
DESCRIPTION:Thank You\, Non-Profits! - Calling all Non-Profits! We want to thank you. \n\n\n\n\n\n\nDecember 06\, 2017\n\n\n\n\n\n\n\n\n\nWe are hosting a "Thank You Non-Profit Day."Join us for lunch on December 6th from 11am to 1pm at the South Shore Leadership Center. This day was created to bring together regional non-profits and thank them for their hard work and generosity for the year. This is not going to be a structured\, agenda filled few hours\, but rather a day that non-profit executives can come in to have a nice lunch\, network and learn how they can advance their mission and efforts.\n\nBill Stanczykiewicz\, Director of The Fund Raising School at IU Lilly Family School of Philanthropy\, will be a keynote speaker for that day and he is one you do not want to miss!  To reserve your spot\, please click below or call our office\, 219-989-2800. There are only 100 spots for this event!\n\n\n\nRSVP here!
X-ALT-DESC;FMTTYPE=text/html:<div>\n<p><strong><em><u>Thank You\, Non-Profits! - </u></em></strong><strong><em><u>Calling all Non-Profits! We want to thank you. </u></em></strong></p>\n</div>\n\n<div>\n<div>\n<div style="text-align: left\;">\n<div>\n<p><strong><em><u>December 06\, 2017</u></em></strong></p>\n</div>\n</div>\n</div>\n</div>\n\n<div>\n<div>\n<div style="text-align: left\;">\n<div>\n<p>We are hosting a &ldquo\;Thank You Non-Profit Day.&rdquo\;Join us for lunch on December 6th from 11am to 1pm at the South Shore Leadership Center.&nbsp\;This day was created to bring together regional non-profits and thank them for their hard work and generosity for the year. This is not going to be a structured\, agenda filled few hours\, but rather a day that non-profit executives can come in to have a nice lunch\, network and learn how they can advance their mission and efforts.</p>\n\n<p>Bill Stanczykiewicz\, Director of The Fund Raising School at <a href="https://philanthropy.iupui.edu/index.html" target="_blank">IU Lilly Family School of Philanthropy</a>\, will be a keynote speaker for that day and he is one you do not want to miss! &nbsp\;To reserve your spot\, please click below or call our office\, 219-989-2800. There are only 100 spots for this event!<br />\n<br />\n<a href="http://purdue.qualtrics.com/jfe/form/SV_4Id5gby7Fbb0i0Z">RSVP here! </a></p>\n</div>\n</div>\n</div>\n</div>\n
LOCATION:South Shore Leadership Office 6100 Southport Road Portage\, IN 46368 We are in the same building as NWI Forum\, PNW\, and NIRPC. We actaully share the same office space at PNW to the right when you walk into the door.
UID:e.1949.2942
SEQUENCE:3
DTSTAMP:20260424T193253Z
URL:https://members.laportepartnership.com/events/details/thank-you-non-profits-2942
END:VEVENT

END:VCALENDAR
