BEGIN:VCALENDAR
VERSION:2.0
PRODID:-//ChamberMaster//Event Calendar 2.0//EN
METHOD:PUBLISH
X-PUBLISHED-TTL:P3D
REFRESH-INTERVAL:P3D
CALSCALE:GREGORIAN
BEGIN:VEVENT
DTSTART:20171217T013000Z
DTEND:20171217T033000Z
X-MICROSOFT-CDO-ALLDAYEVENT:FALSE
SUMMARY:The Best Christmas Pageant Ever & A Charlie Brown Christmas at the Little Theatre
DESCRIPTION:The La Porte Little Theatre will present The Best Christmas Pageant Ever and A Charlie Brown Christmas. Opening night is SOLD OUT! The show opens December 8th and runs for 2 weekends. This holiday performance at the La Porte Little Theatre Club has become a tradition for many families in our community. Both shows are directed by Bonnie Quigley and many kids you know will be the leads in this performance.\n\nTickets are on sale at Roxy's Music and Thaddeus C. Gallery in La Porte. Make reservations and get more show information at  www.laportelittletheatreclub.com.
X-ALT-DESC;FMTTYPE=text/html:<div>\n<div>The La Porte Little Theatre will present The Best Christmas Pageant Ever and A Charlie Brown Christmas. Opening night is SOLD OUT! The show opens December 8th and runs for 2 weekends. This holiday performance at the La Porte Little Theatre Club has become a tradition for many families in our community. Both shows are directed by Bonnie Quigley and many kids you know will be the leads in this performance.</div>\n\n<div>Tickets are on sale at Roxy&#39\;s Music and Thaddeus C. Gallery in La Porte. Make reservations and get more show information at &nbsp\;<a _mce_href="http://www.laportelittletheatreclub.com" _mce_style="font-weight: bold\; color: #c24f13\; text-decoration: none\;" href="http://www.laportelittletheatreclub.com/" linktype="1" style="font-weight: bold\; color: rgb(194\, 79\, 19) !important\; text-decoration-line: none !important\;" target="_blank" track="on">www.laportelittletheatreclub.com.</a></div>\n</div>\n\n<div>&nbsp\;</div>\n\n<div>\n<div style="color: rgb(69\, 69\, 69)\; font-family: Arial\, Helvetica\, sans-serif\; font-size: 13.3333px\;">\n<div>&nbsp\;</div>\n</div>\n</div>\n
LOCATION:218 A Street La Porte
UID:e.1949.2979
SEQUENCE:3
DTSTAMP:20260424T193949Z
URL:https://members.laportepartnership.com/events/details/the-best-christmas-pageant-ever-a-charlie-brown-christmas-at-the-little-theatre-12-16-2017-2979
END:VEVENT

END:VCALENDAR
