BEGIN:VCALENDAR
VERSION:2.0
PRODID:-//ChamberMaster//Event Calendar 2.0//EN
METHOD:PUBLISH
X-PUBLISHED-TTL:P3D
REFRESH-INTERVAL:P3D
CALSCALE:GREGORIAN
BEGIN:VEVENT
DTSTART:20190427T233000Z
DTEND:20190428T023000Z
X-MICROSOFT-CDO-ALLDAYEVENT:FALSE
SUMMARY:The Clean Water Affair
DESCRIPTION:Salon Rogue will be hosting the Clean Water Fair to raise money for safe water locally and globally. 100% of the proceeds will be going to the Alliance for the Great Lakes and Charity Water. There will be a cash bar\, hors d'ouevres and a silent auction.\n\nThey are also looking for donations of gift baskets\, items and gift cards for the silent auction.
X-ALT-DESC;FMTTYPE=text/html:Salon Rogue will be hosting the Clean Water Fair to raise money for safe water locally and globally. 100% of the proceeds will be going to the Alliance for the Great Lakes and Charity Water. There will be a cash bar\, hors d&#39\;ouevres and a silent auction.<br />\nThey are also looking for donations of gift baskets\, items and gift cards for the silent auction.
LOCATION:Salon Rogue 820 Lincolnway
UID:e.1949.4342
SEQUENCE:3
DTSTAMP:20260423T165548Z
URL:https://members.laportepartnership.com/events/details/the-clean-water-affair-4342
END:VEVENT

END:VCALENDAR
