BEGIN:VCALENDAR
VERSION:2.0
PRODID:-//ChamberMaster//Event Calendar 2.0//EN
METHOD:PUBLISH
X-PUBLISHED-TTL:P3D
REFRESH-INTERVAL:P3D
CALSCALE:GREGORIAN
BEGIN:VEVENT
DTSTART;VALUE=DATE:20190904
DTEND;VALUE=DATE:20190929
TRANSP:TRANSPARENT
X-MICROSOFT-CDO-ALLDAYEVENT:TRUE
SUMMARY:THE GOLDEN AGE: INDIANA LITERATURE (1880-1920)
DESCRIPTION:Drawn from collections at IHS\, Indiana State Library and Indiana University's Lilly Library\, the exhibition at the La Porte County Historical Society Museum explores what came to be known as the "Golden Age of Indiana Literature." From 1880 to 1920\, Hoosier authors achieved both national prominence and popular acclaim. A 1947 study found that Indiana authors ranked second to New York in the number of bestsellers produced in the previous 40 years. The exhibit concentrates on the lives and careers of four individuals   George Ade\, Meredith Nicholson\, Booth Tarkington and James Whitcomb Riley - but includes other authors as well.
X-ALT-DESC;FMTTYPE=text/html:Drawn from collections at IHS\, Indiana State Library and Indiana University&rsquo\;s Lilly Library\, the exhibition at the La Porte County Historical Society Museum explores what came to be known as the &ldquo\;Golden Age of Indiana Literature.&rdquo\; From 1880 to 1920\, Hoosier authors achieved both national prominence and popular acclaim. A 1947 study found that Indiana authors ranked second to New York in the number of bestsellers produced in the previous 40 years. The exhibit concentrates on the lives and careers of four individuals &ndash\; George Ade\, Meredith Nicholson\, Booth Tarkington and James Whitcomb Riley - but includes other authors as well.
LOCATION:La Porte County Historical Society Museum
UID:e.1949.4368
SEQUENCE:3
DTSTAMP:20260423T082700Z
URL:https://members.laportepartnership.com/events/details/the-golden-age-indiana-literature-1880-1920-4368
END:VEVENT

END:VCALENDAR
