BEGIN:VCALENDAR
VERSION:2.0
PRODID:-//ChamberMaster//Event Calendar 2.0//EN
METHOD:PUBLISH
X-PUBLISHED-TTL:P3D
REFRESH-INTERVAL:P3D
CALSCALE:GREGORIAN
BEGIN:VEVENT
DTSTART:20200514T143000Z
DTEND:20200514T153000Z
X-MICROSOFT-CDO-ALLDAYEVENT:FALSE
SUMMARY:The Investment Puzzle: Putting the Pieces Together
DESCRIPTION:Like a jigsaw puzzle\, economic conditions\, corporate performance\, the international backdrop and your investment decisions fit together to form a larger picture. But it can be hard to see a pattern among the various pieces of our investment outlook.\n\nWe'll look at these key questions facing investors today:\n\n1. Will there be a recession this year?\n\n2. Will interest rates go lower or even negative?\n\n3. How long will the market slump last?\n\n4. Will global markets keep under-performing?\n\n5. What impact will politics have on the markets?\n\n6. What are the risks to our outlook?\n\n7. What common mistakes can I avoid?\n\n8\, How can I put all the pieces together?\n\n\n\nTo RSVP and receive webinar details\, contact Lindsay at lindsayj@laportepartnership.com.\n\n\n\nJonathan Salisbury has been an Edward Jones Financial Advisor since 2004 and currently serves as regional leader for an area that encompasses Greater Northwest Indiana. Jon earned his Bachelor's Degree in Business Administration from Indiana University in Indianapolis in 2001 and received the AAMS professional designation in 2007. He is past president of the La Porte Rotary Club\, past board member of the La Porte Education Development Foundation\, and past board member of the La Porte Hospital Foundation.
X-ALT-DESC;FMTTYPE=text/html:Like a jigsaw puzzle\, economic conditions\, corporate performance\, the international backdrop and your investment decisions fit together to form a larger picture. But it can be hard to see a pattern among the various pieces of our investment outlook.<br />\nWe&#39\;ll look at these key questions facing investors today:<br />\n1. Will there be a recession this year?<br />\n2. Will interest rates go lower or even negative?<br />\n3. How long will the market slump last?<br />\n4. Will global markets keep under-performing?<br />\n5. What impact will politics have on the markets?<br />\n6. What are the risks to our outlook?<br />\n7. What common mistakes can I avoid?<br />\n8\, How can I put all the pieces together?<br />\n<br />\nTo RSVP and receive webinar details\, contact Lindsay at lindsayj@laportepartnership.com.<br />\n<br />\nJonathan Salisbury has been an Edward Jones Financial Advisor since 2004 and currently serves as regional leader for an area that encompasses Greater Northwest Indiana. Jon earned his Bachelor&#39\;s Degree in Business Administration from Indiana University in Indianapolis in 2001 and received the AAMS professional designation in 2007. He is past president of the La Porte Rotary Club\, past board member of the La Porte Education Development Foundation\, and past board member of the La Porte Hospital Foundation.
LOCATION:Your Home or Office
UID:e.1949.4593
SEQUENCE:3
DTSTAMP:20260422T174248Z
URL:https://members.laportepartnership.com/events/details/the-investment-puzzle-putting-the-pieces-together-4593
END:VEVENT

END:VCALENDAR
