BEGIN:VCALENDAR
VERSION:2.0
PRODID:-//ChamberMaster//Event Calendar 2.0//EN
METHOD:PUBLISH
X-PUBLISHED-TTL:P3D
REFRESH-INTERVAL:P3D
CALSCALE:GREGORIAN
BEGIN:VEVENT
DTSTART:20161106T003000Z
DTEND:20161106T020000Z
X-MICROSOFT-CDO-ALLDAYEVENT:FALSE
SUMMARY:The La Porte County Symphony Orchestra presents Latin Rhythms
DESCRIPTION:The La Porte County Symphony Orchestra presents Latin Rhythms! This concert is made possible by generous support from Horizon Bank and 1st Source Bank. \n\n \n\nFrom the quietness of Copland to the rousing strains of West Side Story\, enjoy a Latin flavored fiesta of sights and sounds. You'll be dazzled by color\, choreography and instrumentals from our guest performers\, Xel-Ha Escuela de Danza directed by Debra Bolanos\,  Blue Moon Dance directed by Mary Chandler and Mariachi Acero directed by Larry Lane. Additional solo performances by La Porte County Symphony Orchestra members include Charles Steck on trumpet and Kathryn Brtko on oboe.  \n\n \n\nPurchase your tickets now for Latin Rhythms\, November 5\, 2016\, 7:30 pm at the La Porte Civic Auditorium. For more information call 219-362-9020 or visit us on the web\, www.lcso.net   \n\n \n\nTickets may be purchase online by visiting www.lcso.net or at the following locations:\n\n\n	La Porte Civic Auditorium - 1001 Ridge Street\, La Porte \n	ROXY Music - 1012 Lincolnway\, La Porte\n	La Porte County Convention & Visitors Bureau - 4073 S. Franklin St.\, Michigan City.\n\n Tickets are $20 for Adult Seats and $18 for Senior Seats. Students with a valid ID are admitted for free.
X-ALT-DESC;FMTTYPE=text/html:<span style="color:black\;"><span style="font-family:arial\,sans-serif\;"><span style="font-size:10.0pt\;">The <strong>La Porte County Symphony Orchestra</strong>&nbsp\;presents<em><strong>&nbsp\;Latin Rhythms!</strong></em>&nbsp\;This concert is made possible by generous support from<strong>&nbsp\;Horizon Bank and 1st Source Bank.</strong>&nbsp\;</span></span></span><br />\n&nbsp\;<br />\n<span style="color:black\;"><span style="font-family:arial\,sans-serif\;"><span style="font-size:10.0pt\;">From the quietness of Copland to the rousing strains of West Side Story\, enjoy a Latin flavored fiesta of sights and sounds. You&#39\;ll be dazzled by color\, choreography and instrumentals from our guest performers\, Xel-Ha Escuela de Danza directed by Debra Bolanos\, &nbsp\;Blue Moon Dance directed by Mary Chandler and Mariachi Acero directed by Larry Lane. Additional solo performances by La Porte County Symphony Orchestra members include Charles Steck on trumpet and Kathryn Brtko on oboe. &nbsp\;</span></span></span><br />\n&nbsp\;<br />\n<span style="color:black\;"><span style="font-family:arial\,sans-serif\;"><span style="font-size:10.0pt\;">Purchase your tickets now for <strong><em>Latin Rhythms\,</em></strong>&nbsp\;November 5\, 2016\, 7:30 pm at the La Porte Civic Auditorium. For more information call 219-362-9020 or visit us on the web\, <a alt="http://www.lcso.net" href="http://r20.rs6.net/tn.jsp?f=001OxW2NSqz0rhQU1w7TcQAW-zAJ6nOO6u3dNsK6XMJFvlF3TvslSpiTiZy6Qi2QKWyCrpXws9GHc0EEnNnxz6nI2eEz6zj6WKpcjeLOCszzBiNd0BZidZzqZYUYZEroUKbEEKw46GM8cnsBdz9kEchyyqgpp9KRMks&amp\;c=DhjODDnMfIn8XmSf1FO46-HW-GuOhJlWjwOOaaoFnveeSLhF1yOwBA==&amp\;ch=kGuJKZOIofJXmRvgzhbKCoyYYDj1dvD3ZkSzuIQCuerzB6xsv39eUQ==" linktype="1" shape="rect" target="_blank" track="on">www.lcso.net</a> &nbsp\; </span></span></span><br />\n&nbsp\;<br />\n<strong><span style="color:black\;"><span style="font-family:arial\,sans-serif\;"><span style="font-size:10.0pt\;">Tickets may be purchase online by visiting <a alt="http://www.lcso.net" href="http://r20.rs6.net/tn.jsp?f=001OxW2NSqz0rhQU1w7TcQAW-zAJ6nOO6u3dNsK6XMJFvlF3TvslSpiTiZy6Qi2QKWyCrpXws9GHc0EEnNnxz6nI2eEz6zj6WKpcjeLOCszzBiNd0BZidZzqZYUYZEroUKbEEKw46GM8cnsBdz9kEchyyqgpp9KRMks&amp\;c=DhjODDnMfIn8XmSf1FO46-HW-GuOhJlWjwOOaaoFnveeSLhF1yOwBA==&amp\;ch=kGuJKZOIofJXmRvgzhbKCoyYYDj1dvD3ZkSzuIQCuerzB6xsv39eUQ==" linktype="1" shape="rect" target="_blank" track="on">www.lcso.net</a> or at the following locations:</span></span></span></strong>\n\n<ul>\n	<li style="color:#666666\;"><span style="color:black\;"><span style="font-family:arial\,sans-serif\;"><span style="font-size:10.0pt\;">La Porte Civic Auditorium - 1001 Ridge Street\, La Porte&nbsp\;</span></span></span></li>\n	<li style="color:#666666\;"><span style="color:black\;"><span style="font-family:arial\,sans-serif\;"><span style="font-size:10.0pt\;">ROXY Music - 1012 Lincolnway\, La Porte</span></span></span></li>\n	<li style="color:#666666\;"><span style="color:black\;"><span style="font-family:arial\,sans-serif\;"><span style="font-size:10.0pt\;">La Porte County Convention &amp\; Visitors Bureau - 4073 S. Franklin St.\, Michigan City.</span></span></span></li>\n</ul>\n<strong><span style="color:black\;"><span style="font-family:arial\,sans-serif\;"><span style="font-size:10.0pt\;">&nbsp\;Tickets are $20 for Adult Seats and $18 for Senior Seats. Students with a valid ID are admitted for free.</span></span></span></strong>
LOCATION:La Porte Civic Auditorium 1001 Ridge Street La Porte
UID:e.1949.2663
SEQUENCE:3
DTSTAMP:20260425T204323Z
URL:https://members.laportepartnership.com/events/details/the-la-porte-county-symphony-orchestra-presents-latin-rhythms-2663
END:VEVENT

END:VCALENDAR
