BEGIN:VCALENDAR
VERSION:2.0
PRODID:-//ChamberMaster//Event Calendar 2.0//EN
METHOD:PUBLISH
X-PUBLISHED-TTL:P3D
REFRESH-INTERVAL:P3D
CALSCALE:GREGORIAN
BEGIN:VEVENT
DTSTART:20220811T210000Z
DTEND:20220811T230000Z
X-MICROSOFT-CDO-ALLDAYEVENT:FALSE
SUMMARY:The Red Door Ribbon Cutting Ceremony
DESCRIPTION:Help the La Porte Economic Advancement Partnership officially welcome La Porte's new social hub\, The Red Door\, with a ribbon cutting ceremony on August 11th. The festivities will begin at 4 p.m. with an extended Happy Hour and Pizza Tasting.\n\n\n\nRegister by clicking the button on the right.
X-ALT-DESC;FMTTYPE=text/html:Help the La Porte Economic Advancement Partnership officially welcome La Porte&#39\;s new social hub\, The Red Door\, with a ribbon cutting ceremony on August 11th. The festivities will begin at 4 p.m. with an extended Happy Hour and Pizza Tasting.<br />\n<br />\nRegister by clicking the button on the right.
LOCATION:The Red Door 612 Lincolnway\, La Porte
UID:e.1949.4858
SEQUENCE:3
DTSTAMP:20260422T014330Z
URL:https://members.laportepartnership.com/events/details/the-red-door-ribbon-cutting-ceremony-4858
END:VEVENT

END:VCALENDAR
