BEGIN:VCALENDAR
VERSION:2.0
PRODID:-//ChamberMaster//Event Calendar 2.0//EN
METHOD:PUBLISH
X-PUBLISHED-TTL:P3D
REFRESH-INTERVAL:P3D
CALSCALE:GREGORIAN
BEGIN:VEVENT
DTSTART:20180627T170000Z
DTEND:20180627T193000Z
X-MICROSOFT-CDO-ALLDAYEVENT:FALSE
SUMMARY:The Social & Learning Institute End-of-Year Celebration & Annual Raffle
DESCRIPTION:Join the Social & Learning Institute for their End-of-Year Celebration & Annual Raffle on June 27\, 2018. The event will take place at Creek Ridge County Park\, 7943 W. 400 N. in Michigan City. The picnic will begin at 12:00 p.m. and the raffle drawing will take place at 2:00 p.m. with a top prize of $500. You do not need to be present to win. This event is registered with the Indiana Gaming Commission. Funds raised from the purchase of raffle tickets will be matched by Modern Woodmen of America.
X-ALT-DESC;FMTTYPE=text/html:Join the Social &amp\; Learning Institute for their End-of-Year Celebration &amp\; Annual Raffle on June 27\, 2018. The event will take place at Creek Ridge County Park\, 7943 W. 400 N. in Michigan City. The picnic will begin at 12:00 p.m. and the raffle drawing will take place at 2:00 p.m. with a top prize of $500. You do not need to be present to win. This event is registered with the Indiana Gaming Commission. Funds raised from the purchase of raffle tickets will be matched by Modern Woodmen of America.
LOCATION:Creek Ridge County Park 7943 W. 400 N. Michigan City
UID:e.1949.4189
SEQUENCE:3
DTSTAMP:20260424T085127Z
URL:https://members.laportepartnership.com/events/details/the-social-learning-institute-end-of-year-celebration-annual-raffle-4189
END:VEVENT

END:VCALENDAR
