BEGIN:VCALENDAR
VERSION:2.0
PRODID:-//ChamberMaster//Event Calendar 2.0//EN
METHOD:PUBLISH
X-PUBLISHED-TTL:P3D
REFRESH-INTERVAL:P3D
CALSCALE:GREGORIAN
BEGIN:VEVENT
DTSTART:20161108T173000Z
DTEND:20161108T190000Z
X-MICROSOFT-CDO-ALLDAYEVENT:FALSE
SUMMARY:The Strength to Build Bridges: Negotiating Your Way To Success
DESCRIPTION:Join a panel of subject matter experts who negotiate as a profession!  \n\nFrom tips and tricks you can incorporate to full on strategies you can implement- come and learn how you can start winning more deals.  Whether you must arbitrate a hearing\, negotiate a new job offer\, broker an entire contract\, or simply get your way more in life- you will not want to miss this opportunity!\n\n\n\nThe event is hosted by Women in Leadership LaPorte and moderated by Nancy Robinson (VP Sales Leader in a global Direct Sales company).  The panel of subject matter experts features:\n\n\n\n	Doug Bobillo- Arbitrator/Mediator/ADR and Owner of Woodland Labor Relations Consulting\, Inc.  Doug has over 35 years of collective bargaining experience\, most of that with NIPSCO/Nisource.\n	Shannon Hannon- Director of Practice Management at IU Health LaPorte Hospital.  Shannon negotiates contracts with all new providers entering the employed network as well as renegotiates contracts for existing providers (ie Physicians\, Nurses\, NP\, PA\, etc).\n	Rene Ray- Owner and CEO of R Squared Strategies. Rene has negotiated all sizes of vendor contracts and now teaches "Negotiating" as part of her sales training.\n\n\nClick here to register now!
X-ALT-DESC;FMTTYPE=text/html:<strong>Join a panel of subject matter experts who negotiate as a profession!</strong> &nbsp\;<br />\nFrom tips and tricks you can incorporate to full on strategies you can implement- come and learn how you can start winning more deals. &nbsp\;Whether you must arbitrate a hearing\, negotiate a new job offer\, broker an entire contract\, or simply get your way more in life- you will not want to miss this opportunity!<br />\n<br />\nThe event is hosted by Women in Leadership LaPorte and moderated by <a href="http://r20.rs6.net/tn.jsp?f=001MGd_64trTMcYB518ZBOeSLlf9ItIvW0mcxRN9W0oOQC3jMmr5nU6RyMGgor-YJCatiBxuGYD2ahKqXlkkWf8o8JrVEUw4RPqyC_gmRCZ56qYdPDHkGqDpBQZwgu3HRGnH8ArNXm7sq3tB6Fx-hFSrQIckIwOr2JpTRzCYGUNynrdP57fCz3DoQ==&amp\;c=C6KRj39LaebANkr1EIBxSwGKiaBWnioaOFfjKBZoUhG3DfNg_VJ3rQ==&amp\;ch=jbEqjADpZx5SJ5G6tgJcWzEWrKwXlRTTLT4tNMZWQvzB4EidnRGdUg==">Nancy Robinson</a> (VP Sales Leader in a global Direct Sales company). &nbsp\;The panel of subject matter experts features:\n\n<div>\n<ul>\n	<li><a href="http://r20.rs6.net/tn.jsp?f=001MGd_64trTMcYB518ZBOeSLlf9ItIvW0mcxRN9W0oOQC3jMmr5nU6R--pcjwnuxVZ0GPhmALn1gnyuRgzZfZRHJs4IyhFTO7QhcVAbj-wjd3EJwv26iMnUTuYjACr1BGdi0VtjAa4aW3obeBEy7ubtv6IaLa0EG_SGuHUNYB482r4k5V6VhXK8KIbh6O9rsqBfnNGhq8ulSISGzJToBSX8vviC0WDPQAHKDZTWfr3jJ7CIliD2PXvIQU6d8l1V08KrGsioL_mk6U3WhBKpA8CW99Yrmbtomw3hCEpK4j5vqz97Ko82YkAItvweQnrMZ8H&amp\;c=C6KRj39LaebANkr1EIBxSwGKiaBWnioaOFfjKBZoUhG3DfNg_VJ3rQ==&amp\;ch=jbEqjADpZx5SJ5G6tgJcWzEWrKwXlRTTLT4tNMZWQvzB4EidnRGdUg==" style="color: blue\;" target="_blank">Doug Bobillo</a>- Arbitrator/Mediator/ADR and Owner of Woodland Labor Relations Consulting\, Inc.&nbsp\; Doug has over 35 years of collective bargaining experience\, most of that with NIPSCO/Nisource.</li>\n	<li><a href="http://r20.rs6.net/tn.jsp?f=001MGd_64trTMcYB518ZBOeSLlf9ItIvW0mcxRN9W0oOQC3jMmr5nU6R--pcjwnuxVZKxsqgG1isD02OW0cd_LV5WhryRipyy6I-fHYTRAiyegBav4shH3z83qkOUek7mtCs1KBSckGm6bi3dMgYedEhldsnTboSEIhO5wRjmxpEKWU7C4qGlpjYmR55sAEIQp7WniUg0nkNh_y5d3iAEUAtXb44_diAiWa97nP4aQQITo17oWZH-vL_wYklZmqSmk9nHhtlY9SVPUW8qgYNUfSuh0ROOFR3Jwy97zAbGlB--t8nIm213MUSQij1UCpvC9C&amp\;c=C6KRj39LaebANkr1EIBxSwGKiaBWnioaOFfjKBZoUhG3DfNg_VJ3rQ==&amp\;ch=jbEqjADpZx5SJ5G6tgJcWzEWrKwXlRTTLT4tNMZWQvzB4EidnRGdUg==" style="color: blue\;" target="_blank">Shannon Hannon</a>- Director of Practice Management at IU Health LaPorte Hospital.&nbsp\; Shannon negotiates contracts with all new providers entering the employed network as well as renegotiates contracts for existing providers&nbsp\;(ie Physicians\, Nurses\, NP\, PA\, etc).</li>\n	<li><a href="http://r20.rs6.net/tn.jsp?f=001MGd_64trTMcYB518ZBOeSLlf9ItIvW0mcxRN9W0oOQC3jMmr5nU6R3vzsYDIPMgUxQRkL3sOOc0Dbi2FNnduSBhaIzcjAYOr0RWD1XkzG77OO_PWrTQmVUVhimYIxh9B2eZWQymk1ZPehw01wulT_f-Hm9FegaHxYloafRUDjcWsgnOv_9V8vZLSIl5O4QweP0qIHALA4FJObdq2bJHdxIkUf5mv6-GuLK-rVjanc98=&amp\;c=C6KRj39LaebANkr1EIBxSwGKiaBWnioaOFfjKBZoUhG3DfNg_VJ3rQ==&amp\;ch=jbEqjADpZx5SJ5G6tgJcWzEWrKwXlRTTLT4tNMZWQvzB4EidnRGdUg==" style="color: blue\;" target="_blank">Rene Ray</a>- Owner and CEO of R Squared Strategies. Rene has negotiated all sizes of vendor contracts and now teaches &quot\;Negotiating&quot\; as part of her sales training.</li>\n</ul>\n</div>\n<a href="http://events.r20.constantcontact.com/register/regform?oeidk=a07ed0zgbct95ee276c&amp\;c=65d47570-15e7-11e6-8fad-d4ae527548e1&amp\;ch=65ef7780-15e7-11e6-8fad-d4ae527548e1">Click here to register now!</a>
LOCATION:Maxines 521 Franklin Street Michigan City\, IN 46360
UID:e.1949.2660
SEQUENCE:3
DTSTAMP:20260425T204457Z
URL:https://members.laportepartnership.com/events/details/the-strength-to-build-bridges-negotiating-your-way-to-success-2660
END:VEVENT

END:VCALENDAR
