BEGIN:VCALENDAR
VERSION:2.0
PRODID:-//ChamberMaster//Event Calendar 2.0//EN
METHOD:PUBLISH
X-PUBLISHED-TTL:P3D
REFRESH-INTERVAL:P3D
CALSCALE:GREGORIAN
BEGIN:VEVENT
DTSTART:20171026T161500Z
DTEND:20171026T180000Z
X-MICROSOFT-CDO-ALLDAYEVENT:FALSE
SUMMARY:"The Supervisor Game" Training Session\, Sponsored by La Porte County Public Library
DESCRIPTION:Nora T. Akins\, owner of Strategic Management helps build respectful workplaces by training supervisors to develop outstanding employee relations.  This is a highly interactive training session designed to give supervisors the opportunity to practice responding to employee comments and concerns about work conditions. Be prepared to think in your seat as Nora demonstrates how supervisors' words and actions create liability for your company. Play "The Supervisor Game" by selecting the correct response to potentially litigious employee statements.\n\n\n\nThis seminar is sponsored by the La Porte County Public Library. To learn more about the Library\, visit www.laportelibrary.org.\n\n\n\nJimmy John's will be provided as the lunch at this seminar.\n\n \n\n\n\n\n\n\nPlease let us know if you have any exceptions or special needs. By attending this event\, you are accepting to be photographed and have those materials utilized in future Chamber marketing materials. If you would prefer to not be photographed\, please let a Chamber staff member know by calling 219.362.3178\, emailing info@lpchamber.com or informing a staff member at the event.
X-ALT-DESC;FMTTYPE=text/html:<span style="font-family:calibri\,sans-serif\;"><span style="font-size:11.0pt\;">Nora T. Akins\, owner of Strategic Management helps build respectful workplaces by training supervisors to develop outstanding employee relations. &nbsp\;This is a highly interactive training session designed to give supervisors the opportunity to practice responding to employee comments and concerns about work conditions. Be prepared to think in your seat as Nora demonstrates how supervisors&rsquo\; words and actions create liability for your company. Play &ldquo\;The Supervisor Game&rdquo\; by selecting the correct response to potentially litigious employee statements.<br />\n<br />\nThis seminar is sponsored by the La Porte County Public Library. To learn more about the Library\, visit&nbsp\;</span></span>www.laportelibrary.org.<br />\n<br />\nJimmy John&#39\;s will be provided as the lunch at this seminar.<br />\n&nbsp\;\n<div class="mn-module-content" id="mn-events" style="border: none\; font-variant: inherit\; font-stretch: inherit\; line-height: inherit\; font-family: inherit\; font-size: inherit\; font-style: inherit\; font-weight: inherit\; margin: 0px 0px 30px\; outline: 0px\; padding: 0px\; vertical-align: baseline\; bottom: auto\; box-sizing: content-box\; clear: none\; color: inherit\; content: normal\; direction: inherit\; empty-cells: show\; left: auto\; letter-spacing: inherit\; max-height: none\; max-width: none\; min-height: initial\; min-width: initial\; opacity: 1\; outline-offset: 0px\; overflow: visible\; position: static\; resize: none\; right: auto\; table-layout: auto\; text-align: inherit\; text-indent: inherit\; text-overflow: clip\; text-transform: inherit\; top: auto\; visibility: inherit\; white-space: inherit\; word-break: inherit\; word-spacing: inherit\; word-wrap: inherit\; z-index: auto\; background: none\; border-collapse: separate\; border-radius: 0px\; height: auto\; width: 1000px\; box-shadow: none\;">\n<div id="mn-events-details" itemscope="itemscope" itemtype="http://schema.org/Event" style="border: none\; font-variant: inherit\; font-stretch: inherit\; line-height: inherit\; font-family: inherit\; font-size: inherit\; font-style: inherit\; font-weight: inherit\; margin: 0px\; outline: 0px\; padding: 0px\; vertical-align: baseline\; bottom: auto\; box-sizing: content-box\; clear: none\; color: inherit\; content: normal\; direction: inherit\; empty-cells: show\; left: auto\; letter-spacing: inherit\; max-height: none\; max-width: none\; min-height: initial\; min-width: initial\; opacity: 1\; outline-offset: 0px\; overflow: visible\; position: static\; resize: none\; right: auto\; table-layout: auto\; text-align: inherit\; text-indent: inherit\; text-overflow: clip\; text-transform: inherit\; top: auto\; visibility: inherit\; white-space: inherit\; word-break: inherit\; word-spacing: inherit\; word-wrap: inherit\; z-index: auto\; background: none\; border-collapse: separate\; border-radius: 0px\; height: auto\; width: auto\; box-shadow: none\;">\n<div class="mn-section mn-event-detail-listing" style="border: none\; font-variant: inherit\; font-stretch: inherit\; line-height: inherit\; font-family: inherit\; font-size: inherit\; font-style: inherit\; font-weight: inherit\; margin: 0px\; outline: 0px\; padding: 0px\; vertical-align: baseline\; bottom: auto\; box-sizing: content-box\; clear: both\; color: inherit\; content: normal\; direction: inherit\; empty-cells: show\; left: auto\; letter-spacing: inherit\; max-height: none\; max-width: none\; min-height: initial\; min-width: initial\; opacity: 1\; outline-offset: 0px\; overflow: visible\; position: relative\; resize: none\; right: auto\; table-layout: auto\; text-align: inherit\; text-indent: inherit\; text-overflow: clip\; text-transform: inherit\; top: auto\; visibility: inherit\; white-space: inherit\; word-break: inherit\; word-spacing: inherit\; word-wrap: inherit\; z-index: auto\; background: none\; border-collapse: separate\; border-radius: 0px\; height: auto\; width: auto\; box-shadow: none\;">\n<div class="mn-event-info mn-listing-infobasic" style="border: none\; font-variant: inherit\; font-stretch: inherit\; line-height: inherit\; font-family: inherit\; font-size: inherit\; font-style: inherit\; font-weight: inherit\; margin: 0px\; outline: 0px\; padding: 0px\; vertical-align: baseline\; bottom: auto\; box-sizing: content-box\; clear: left\; color: inherit\; content: normal\; direction: inherit\; empty-cells: show\; left: auto\; letter-spacing: inherit\; max-height: none\; max-width: none\; min-height: initial\; min-width: 280px\; opacity: 1\; outline-offset: 0px\; overflow: visible\; position: static\; resize: none\; right: auto\; table-layout: auto\; text-align: inherit\; text-indent: inherit\; text-overflow: clip\; text-transform: inherit\; top: auto\; visibility: inherit\; white-space: inherit\; word-break: inherit\; word-spacing: inherit\; word-wrap: inherit\; z-index: auto\; background: none\; border-collapse: separate\; border-radius: 0px\; height: auto\; width: 600px\; box-shadow: none\;">\n<div class="mn-event-section mn-event-desc" style="border: none\; font-variant: inherit\; font-stretch: inherit\; line-height: inherit\; font-family: inherit\; font-size: inherit\; font-style: inherit\; font-weight: inherit\; margin: 16px 0px\; outline: 0px\; padding: 0px\; vertical-align: baseline\; bottom: auto\; box-sizing: content-box\; clear: both\; color: inherit\; content: normal\; direction: inherit\; empty-cells: show\; left: auto\; letter-spacing: inherit\; max-height: none\; max-width: none\; min-height: initial\; min-width: initial\; opacity: 1\; outline-offset: 0px\; overflow: visible\; position: static\; resize: none\; right: auto\; table-layout: auto\; text-align: inherit\; text-indent: inherit\; text-overflow: clip\; text-transform: inherit\; top: auto\; visibility: inherit\; white-space: inherit\; word-break: inherit\; word-spacing: inherit\; word-wrap: inherit\; z-index: auto\; background: none\; border-collapse: separate\; border-radius: 0px\; height: auto\; width: auto\; box-shadow: none\;">\n<div class="mn-event-content" style="border: none\; font-variant: inherit\; font-stretch: inherit\; line-height: inherit\; font-family: inherit\; font-size: inherit\; font-style: inherit\; font-weight: inherit\; margin: 0px\; outline: 0px\; padding: 0px\; vertical-align: baseline\; bottom: auto\; box-sizing: content-box\; clear: none\; color: inherit\; content: normal\; direction: inherit\; empty-cells: show\; left: auto\; letter-spacing: inherit\; max-height: none\; max-width: none\; min-height: initial\; min-width: initial\; opacity: 1\; outline-offset: 0px\; overflow: visible\; position: static\; resize: none\; right: auto\; table-layout: auto\; text-align: inherit\; text-indent: inherit\; text-overflow: clip\; text-transform: inherit\; top: auto\; visibility: inherit\; white-space: inherit\; word-break: inherit\; word-spacing: inherit\; word-wrap: inherit\; z-index: auto\; background: none\; border-collapse: separate\; border-radius: 0px\; height: auto\; width: auto\; box-shadow: none\;">\n<div class="mn-raw mn-print-url" itemprop="description" style="border: none\; font-variant: inherit\; font-stretch: inherit\; line-height: 1.3\; font-family: inherit\; font-size: inherit\; font-style: inherit\; font-weight: inherit\; margin: 0px\; outline: 0px\; padding: 0px\; vertical-align: baseline\; bottom: auto\; box-sizing: content-box\; clear: none\; color: inherit\; content: normal\; direction: inherit\; empty-cells: show\; left: auto\; letter-spacing: inherit\; max-height: none\; max-width: none\; min-height: initial\; min-width: initial\; opacity: 1\; outline-offset: 0px\; overflow: visible\; position: static\; resize: none\; right: auto\; table-layout: auto\; text-align: inherit\; text-indent: inherit\; text-overflow: clip\; text-transform: inherit\; top: auto\; visibility: inherit\; white-space: inherit\; word-break: inherit\; word-spacing: inherit\; word-wrap: inherit\; z-index: auto\; background: none\; border-collapse: separate\; border-radius: 0px\; height: auto\; width: auto\; box-shadow: none\;"><span style="border: none\; font-variant-numeric: inherit\; font-stretch: inherit\; line-height: inherit\; font-family: Arial\, Helvetica\, sans-serif\; font-size: 16px\; font-weight: inherit\; margin: 0px\; outline: 0px\; padding: 0px\; vertical-align: baseline\; bottom: auto\; box-sizing: content-box\; clear: none\; color: rgb(0\, 0\, 0)\; content: normal\; direction: inherit\; empty-cells: show\; left: auto\; max-height: none\; max-width: none\; min-height: initial\; min-width: initial\; opacity: 1\; outline-offset: 0px\; overflow: visible\; position: static\; resize: none\; right: auto\; table-layout: auto\; text-overflow: clip\; top: auto\; visibility: inherit\; word-break: inherit\; word-wrap: inherit\; z-index: auto\; background-image: none\; background-position: initial\; background-size: initial\; background-repeat: initial\; background-attachment: initial\; background-origin: initial\; background-clip: initial\; border-collapse: separate\; border-radius: 0px\; height: auto\; width: auto\; box-shadow: none\;"><span style="border: none\; font-variant: inherit\; font-stretch: inherit\; line-height: inherit\; font-family: calibri\, sans-serif\; font-size: 14.6667px\; font-style: inherit\; font-weight: inherit\; margin: 0px\; outline: 0px\; padding: 0px\; vertical-align: baseline\; bottom: auto\; box-sizing: content-box\; clear: none\; color: inherit\; content: normal\; direction: inherit\; empty-cells: show\; left: auto\; letter-spacing: inherit\; max-height: none\; max-width: none\; min-height: initial\; min-width: initial\; opacity: 1\; outline-offset: 0px\; overflow: visible\; position: static\; resize: none\; right: auto\; table-layout: auto\; text-align: inherit\; text-indent: inherit\; text-overflow: clip\; text-transform: inherit\; top: auto\; visibility: inherit\; white-space: inherit\; word-break: inherit\; word-spacing: inherit\; word-wrap: inherit\; z-index: auto\; background: none\; border-collapse: separate\; border-radius: 0px\; height: auto\; width: auto\; box-shadow: none\;">Please let us know if you have any exceptions or special needs. By attending this event\, you are accepting to be photographed and have those materials utilized in future Chamber marketing materials. If you would prefer to not be photographed\, please let a Chamber staff member know by calling 219.362.3178\, emailing info@lpchamber.com or informing a staff member at the event.</span></span></div>\n</div>\n</div>\n</div>\n</div>\n</div>\n</div>\n
LOCATION:La Porte County Public Library\, Meeting Room B 904 Indiana Avenue La Porte
UID:e.1949.2766
SEQUENCE:3
DTSTAMP:20260424T230550Z
URL:https://members.laportepartnership.com/events/details/the-supervisor-game-training-session-sponsored-by-la-porte-county-public-library-2766
END:VEVENT

END:VCALENDAR
