BEGIN:VCALENDAR
VERSION:2.0
PRODID:-//ChamberMaster//Event Calendar 2.0//EN
METHOD:PUBLISH
X-PUBLISHED-TTL:P3D
REFRESH-INTERVAL:P3D
CALSCALE:GREGORIAN
BEGIN:VEVENT
DTSTART:20200220T000000Z
DTEND:20200220T010000Z
X-MICROSOFT-CDO-ALLDAYEVENT:FALSE
SUMMARY:Things You Didn't Learn In School (about financial planning)
DESCRIPTION:Unfortunately\, financial literacy was not a subject most of us were taught in schools\, yet it affects every single one of our lives. We are going to highlight a few key areas of financial planning that we believe everyone should know\, yet few people do. There will be food and drinks provided. Please bring your curiosity and questions!
X-ALT-DESC;FMTTYPE=text/html:Unfortunately\, financial literacy was not a subject most of us were taught in schools\, yet it affects every single one of our lives. We are going to highlight a few key areas of financial planning that we believe everyone should know\, yet few people do. There will be food and drinks provided. Please bring your curiosity and questions!
LOCATION:Modern Woodmen Wanatah Office 11576 W US 30 Suite A Wanatah IN 46391
UID:e.1949.4573
SEQUENCE:3
DTSTAMP:20260423T005922Z
URL:https://members.laportepartnership.com/events/details/things-you-didn-t-learn-in-school-about-financial-planning-4573
END:VEVENT

END:VCALENDAR
