BEGIN:VCALENDAR
VERSION:2.0
PRODID:-//ChamberMaster//Event Calendar 2.0//EN
METHOD:PUBLISH
X-PUBLISHED-TTL:P3D
REFRESH-INTERVAL:P3D
CALSCALE:GREGORIAN
BEGIN:VEVENT
DTSTART:20180216T140000Z
DTEND:20180216T150000Z
X-MICROSOFT-CDO-ALLDAYEVENT:FALSE
SUMMARY:Third House Session- February 16
DESCRIPTION:The Greater La Porte\, Michigan City Area\, and Westville Area Chambers of Commerce have joined together to present an Indiana Third House Session slated for February 16th starting at 8:00 a.m. The event will take place at the La Porte County Convention & Visitors Bureau\, located at 4073 Franklin Street in Michigan City. There is no cost to attend this event\, and light refreshments will be available.\n\n\n\nJoin our local state legislators as they discuss important topics that affect our community and region. Register by clicking the button above or calling 219.362.3178.
X-ALT-DESC;FMTTYPE=text/html:<span style="font-family:georgia\,serif\;"><span style="font-size:12.0pt\;">The Greater La Porte\, Michigan City Area\, and Westville Area Chambers of Commerce have joined together to present an Indiana Third House Session slated for February 16<sup>th</sup> starting at 8:00 a.m. The event will take place at the La Porte County Convention &amp\; Visitors Bureau\, located at 4073 Franklin Street in Michigan City. There is no cost to attend this event\, and light refreshments will be available.</span></span><br />\n<br />\n<span style="font-family:georgia\,serif\;"><span style="font-size:12.0pt\;">Join our local state legislators as they discuss important topics that affect our community and region. Register by clicking the button above or calling 219.362.3178.</span></span>
LOCATION:La Porte County Convention & Visitors Bureau 4073 Franklin Street Michigan City
UID:e.1949.3035
SEQUENCE:3
DTSTAMP:20260424T154731Z
URL:https://members.laportepartnership.com/events/details/third-house-session-february-16-3035
END:VEVENT

END:VCALENDAR
