BEGIN:VCALENDAR
VERSION:2.0
PRODID:-//ChamberMaster//Event Calendar 2.0//EN
METHOD:PUBLISH
X-PUBLISHED-TTL:P3D
REFRESH-INTERVAL:P3D
CALSCALE:GREGORIAN
BEGIN:VEVENT
DTSTART:20180216T003000Z
DTEND:20180216T020000Z
X-MICROSOFT-CDO-ALLDAYEVENT:FALSE
SUMMARY:"Tiles & Talent (none necessary)" Event
DESCRIPTION:At this event\, we will provide you with 6 tiles and all the tools to design the tiles with alcohol ink.  After the event\, you can use these tiles as coasters\, a unique wall hanging or you can even display them in a shadow box.\n\n \n\nPlease plan to bring a computer box lid or an old cookie sheet to safely transport your tiles home. The tiles will be sealed with a spray varnish at the end of the session\, but may not completely dry before you transport them.  You may want to re-seal the tiles at your home. We will be using a product called Kamar Varnish if you wish to purchase the product on your own.\n\n\n\nVisit with friends and enjoy light snacks & beverages while you create!\n\n \n\nThe cost to attend is $25 per person. Advance registration is required.  Please click on the link below to register.
X-ALT-DESC;FMTTYPE=text/html:<span style="color:#999999\;"><span style="font-family:arial\,sans-serif\;"><span style="font-size:10.0pt\;">At this event\, we will provide you with 6 tiles and all the tools to design the tiles with alcohol ink.&nbsp\; After the event\, you can use these tiles as coasters\, a unique wall hanging or you can even display them in a shadow box.</span></span></span><br />\n&nbsp\;<br />\n<span style="color:#999999\;"><span style="font-family:arial\,sans-serif\;"><span style="font-size:10.0pt\;">Please plan to bring a computer box lid or an old cookie sheet to safely transport your tiles home. The tiles will be sealed with a spray varnish at the end of the session\, but may not completely dry before you transport them.&nbsp\; You may want to re-seal the tiles at your home. We will be using a product called Kamar Varnish if you wish to purchase the product on your own.</span></span></span><br />\n<br />\n<span style="color:#999999\;"><span style="font-family:arial\,sans-serif\;"><span style="font-size:10.0pt\;">Visit with friends and enjoy light snacks &amp\; beverages while you create!</span></span></span><br />\n&nbsp\;<br />\n<span style="color:#999999\;"><span style="font-family:arial\,sans-serif\;"><span style="font-size:10.0pt\;">The cost to attend is $25 per person. Advance registration is required.&nbsp\; Please click on the link below to register.</span></span></span>
LOCATION:Leadership La Porte County 809 Washington Street\, Suite B La Pote
UID:e.1949.3038
SEQUENCE:3
DTSTAMP:20260424T154739Z
URL:https://members.laportepartnership.com/events/details/tiles-talent-none-necessary-event-3038
END:VEVENT

END:VCALENDAR
