BEGIN:VCALENDAR
VERSION:2.0
PRODID:-//ChamberMaster//Event Calendar 2.0//EN
METHOD:PUBLISH
X-PUBLISHED-TTL:P3D
REFRESH-INTERVAL:P3D
CALSCALE:GREGORIAN
BEGIN:VEVENT
DTSTART:20190126T200000Z
DTEND:20190126T223000Z
X-MICROSOFT-CDO-ALLDAYEVENT:FALSE
SUMMARY:Totally Awesome CAYA Bowl-a-thon
DESCRIPTION:FAMILY ADVOCATES INVITES YOU TO GO BACK TO THE 80'S AT OUR TOTALLY AWESOME BOWL-A-THON. THE EVENT WILL BE HELD ON SATURDAY\, JANUARY 26\, 2019. REGISTRATION BEGINS AT 1:30PM WITH BOWLING FROM 2:00PM   4:30 PM. Up to 24 teams will participate in our 2019 bowl-a-thon hosted at Casey's Lanes in La Porte. Proceeds from the event will support the Court Appointed Youth Advocate (CAYA Program) that provides mentors to at-risk youth involved in delinquent acts or status offenses. Participants will meet playful competition as they bowl for funds along side their peers\, friends and family to help support the CAYA program. - The individual that raises the most in donations will win a prize. -The team that raises the most in donations goes home with the CAYA Bowl-a-thon Traveling Trophy and bragging rights. Each bowler will raise or pay a minimum donation of $30 to participate in the bowl-a-thon. The money pays for an event t-shirt\, 2 games of bowling\, shoes and a ticket to be part of the raffle. When you sign up for the bowl-a-thon a campaign page will be set up in your name. You can share the link on social media and in email to help raise funds. * Raise $100 and the entry fee will be waived* *Raise $200 and the entry fee will be waived and you will receive 5 additional raffle entries* Come have an "awesome" time bowling and helping a wonderful program make a difference in the lives of local youth! WEAR YOUR FAVORITE 80'S GEAR!
X-ALT-DESC;FMTTYPE=text/html:FAMILY ADVOCATES INVITES YOU TO GO BACK TO THE 80&#39\;S AT OUR TOTALLY AWESOME BOWL-A-THON. THE EVENT WILL BE HELD ON SATURDAY\, JANUARY 26\, 2019. REGISTRATION BEGINS AT 1:30PM WITH BOWLING FROM 2:00PM &ndash\; 4:30 PM. Up to 24 teams will participate in our 2019 bowl-a-thon hosted at Casey&rsquo\;s Lanes in La Porte. Proceeds from the event will support the Court Appointed Youth Advocate (CAYA Program) that provides mentors to at-risk youth involved in delinquent acts or status offenses. Participants will meet playful competition as they bowl for funds along side their peers\, friends and family to help support the CAYA program. - The individual that raises the most in donations will win a prize. -The team that raises the most in donations goes home with the CAYA Bowl-a-thon Traveling Trophy and bragging rights. Each bowler will raise or pay a minimum donation of $30 to participate in the bowl-a-thon. The money pays for an event t-shirt\, 2 games of bowling\, shoes and a ticket to be part of the raffle. When you sign up for the bowl-a-thon a campaign page will be set up in your name. You can share the link on social media and in email to help raise funds. * Raise $100 and the entry fee will be waived* *Raise $200 and the entry fee will be waived and you will receive 5 additional raffle entries* Come have an &quot\;awesome&quot\; time bowling and helping a wonderful program make a difference in the lives of local youth! WEAR YOUR FAVORITE 80&#39\;S GEAR!
LOCATION:Casey's Lanes 610 Colfax Ave La Porte\, IN 46350
UID:e.1949.4271
SEQUENCE:3
DTSTAMP:20260423T215001Z
URL:https://members.laportepartnership.com/events/details/totally-awesome-caya-bowl-a-thon-4271
END:VEVENT

END:VCALENDAR
