BEGIN:VCALENDAR
VERSION:2.0
PRODID:-//ChamberMaster//Event Calendar 2.0//EN
METHOD:PUBLISH
X-PUBLISHED-TTL:P3D
REFRESH-INTERVAL:P3D
CALSCALE:GREGORIAN
BEGIN:VEVENT
DTSTART:20180420T223000Z
DTEND:20180421T020000Z
X-MICROSOFT-CDO-ALLDAYEVENT:FALSE
SUMMARY:Touching Hearts Changing Lives Volunteer Appreciation Banquet
DESCRIPTION:Please join Family Advocates in celebrating the amazing people who volunteer their time to change the lives of the youth in La Porte County. Friday\, April 20\, 2018 5:30PM Registration On April 20th the Volunteers from the Court Appointed Special Advocates (CASA) program and the Court Appointed Youth Advocates (CAYA) programs will be recognized for all their selfless work during our annual Volunteer Appreciation Banquet at Pottawattomie Country Club in Michigan City. $50 per person Active CASA or CAYA Volunteers and their guest are paid for by the generosity of sponsors. 2018 Youth Advocates of the Year Award Dinner served at 6:30 PM   Cash Bar Available
X-ALT-DESC;FMTTYPE=text/html:Please join Family Advocates in celebrating the amazing people who volunteer their time to change the lives of the youth in La Porte County. Friday\, April 20\, 2018 5:30PM Registration On April 20th the Volunteers from the Court Appointed Special Advocates (CASA) program and the Court Appointed Youth Advocates (CAYA) programs will be recognized for all their selfless work during our annual Volunteer Appreciation Banquet at Pottawattomie Country Club in Michigan City. $50 per person Active CASA or CAYA Volunteers and their guest are paid for by the generosity of sponsors. 2018 Youth Advocates of the Year Award Dinner served at 6:30 PM &ndash\; Cash Bar Available
LOCATION:Pottawattomie Country club 1900 Springland Ave. Michigan City\, IN 46360
UID:e.1949.4100
SEQUENCE:3
DTSTAMP:20260424T134442Z
URL:https://members.laportepartnership.com/events/details/touching-hearts-changing-lives-volunteer-appreciation-banquet-4100
END:VEVENT

END:VCALENDAR
