BEGIN:VCALENDAR
VERSION:2.0
PRODID:-//ChamberMaster//Event Calendar 2.0//EN
METHOD:PUBLISH
X-PUBLISHED-TTL:P3D
REFRESH-INTERVAL:P3D
CALSCALE:GREGORIAN
BEGIN:VEVENT
DTSTART;VALUE=DATE:20180824
DTEND;VALUE=DATE:20180827
TRANSP:TRANSPARENT
X-MICROSOFT-CDO-ALLDAYEVENT:TRUE
SUMMARY:Tour de La Porte
DESCRIPTION:Tour de La Porte is a bike ride\, running & walking event to benefit patients with cancer in our community. 100% of the proceeds raised are used to provide direct support to local patients with cancer.
X-ALT-DESC;FMTTYPE=text/html:Tour de La Porte is a bike ride\, running &amp\; walking event to benefit patients with cancer in our community. 100% of the proceeds raised are used to provide direct support to local patients with cancer.
LOCATION:Cummings Lodge\, Soldier's Memorial Park | 250 Grangemouth Dr | La Porte\, IN 46350
UID:e.1949.2985
SEQUENCE:3
DTSTAMP:20260424T071740Z
URL:https://members.laportepartnership.com/events/details/tour-de-la-porte-08-24-2018-2985
END:VEVENT

END:VCALENDAR
