BEGIN:VCALENDAR
VERSION:2.0
PRODID:-//ChamberMaster//Event Calendar 2.0//EN
METHOD:PUBLISH
X-PUBLISHED-TTL:P3D
REFRESH-INTERVAL:P3D
CALSCALE:GREGORIAN
BEGIN:VEVENT
DTSTART:20170825T223000Z
DTEND:20170827T200000Z
X-MICROSOFT-CDO-ALLDAYEVENT:FALSE
SUMMARY:Tour de La Porte
DESCRIPTION:Tour de La Porte is a fundraising event to support community members with cancer. Join us for one or more of the following: Friday - 5K Trail Run/Walk @ 5:30 pm Friday - Rotary Dinner 4 - 7:30 pm Saturday - Half Marathon Run @ 6:30 am Saturday - 10K Run @ 7:15 am Saturday - 5K Run/Walk @ 7:45 am Sunday - Cycling Event with various start times based on route distance
X-ALT-DESC;FMTTYPE=text/html:Tour de La Porte is a fundraising event to support community members with cancer. Join us for one or more of the following: Friday - 5K Trail Run/Walk @ 5:30 pm Friday - Rotary Dinner 4 - 7:30 pm Saturday - Half Marathon Run @ 6:30 am Saturday - 10K Run @ 7:15 am Saturday - 5K Run/Walk @ 7:45 am Sunday - Cycling Event with various start times based on route distance
LOCATION:350 Grangemouth Dr Cummings Lodge\, Soliders Memorial Park La Porte\, IN 46350
UID:e.1949.2740
SEQUENCE:3
DTSTAMP:20260425T021650Z
URL:https://members.laportepartnership.com/events/details/tour-de-la-porte-08-25-2017-2740
END:VEVENT

END:VCALENDAR
