BEGIN:VCALENDAR
VERSION:2.0
PRODID:-//ChamberMaster//Event Calendar 2.0//EN
METHOD:PUBLISH
X-PUBLISHED-TTL:P3D
REFRESH-INTERVAL:P3D
CALSCALE:GREGORIAN
BEGIN:VEVENT
DTSTART;VALUE=DATE:20170825
DTEND;VALUE=DATE:20170828
TRANSP:TRANSPARENT
X-MICROSOFT-CDO-ALLDAYEVENT:TRUE
SUMMARY:Tour de La Porte
DESCRIPTION:Trail Run/Walk\, Half Marathon Run\, 10K Run\, 5K Run/Walk & Cycling Event! Patients with cancer face many challenges\, some of them financial. The Tour de La Porte is a cycling\, running and walking event benefiting patients with cancer in our community.
X-ALT-DESC;FMTTYPE=text/html:Trail Run/Walk\, Half Marathon Run\, 10K Run\, 5K Run/Walk &amp\; Cycling Event! Patients with cancer face many challenges\, some of them financial. The Tour de La Porte is a cycling\, running and walking event benefiting patients with cancer in our community.
LOCATION:Cummings Lodge 350 Grangemouth Dr La Porte\, IN 46350
UID:e.1949.2703
SEQUENCE:3
DTSTAMP:20260425T021455Z
URL:https://members.laportepartnership.com/events/details/tour-de-la-porte-2703
END:VEVENT

END:VCALENDAR
