BEGIN:VCALENDAR
VERSION:2.0
PRODID:-//ChamberMaster//Event Calendar 2.0//EN
METHOD:PUBLISH
X-PUBLISHED-TTL:P3D
REFRESH-INTERVAL:P3D
CALSCALE:GREGORIAN
BEGIN:VEVENT
DTSTART:20230416T190000Z
DTEND:20230416T220000Z
X-MICROSOFT-CDO-ALLDAYEVENT:FALSE
SUMMARY:Transformation Coffee & Canvas
DESCRIPTION:The Dragonfly symbolizes change\, transformation\, adaptability\, and self-realization. So it seems fitting we do paint a dragonfly in the spring to prepare for the summertime!\n\n\n\nDoors open at 1:30 p.m. and we start painting as close to 2 p.m. as possible so come early and get your seats.\n\n\n\nWe provide everything you need: canvas\, paint\, apron\, easels\, baby wipes\, Bryn's easy to follow instructions\, even the coffee to create this lasting memory.\n\n\n\n$35 per painter\, registration is required.\n\n\n\n3 Hr. Session Includes:\n\n- Coffee/Pop/Water\n\n- One canvas\n\n- Paint\, brushes\, aprons and all supplies.\n\n\n\nCall 219.325.8080\, online at hotspotcafe.net or stop by the HotSpot Cafe\, 602 Lincolnway\, to pay for your reservation. All classes are non-refundable.
X-ALT-DESC;FMTTYPE=text/html:The Dragonfly symbolizes change\, transformation\, adaptability\, and self-realization. So it seems fitting we do paint a dragonfly in the spring to prepare for the summertime!<br />\n<br />\nDoors open at 1:30 p.m. and we start painting as close to 2 p.m. as possible so come early and get your seats.<br />\n<br />\nWe provide everything you need: canvas\, paint\, apron\, easels\, baby wipes\, Bryn&#39\;s easy to follow instructions\, even the coffee to create this lasting memory.<br />\n<br />\n$35 per painter\, registration is required.<br />\n<br />\n3 Hr. Session Includes:<br />\n- Coffee/Pop/Water<br />\n- One canvas<br />\n- Paint\, brushes\, aprons and all supplies.<br />\n<br />\nCall 219.325.8080\, online at hotspotcafe.net or stop by the HotSpot Cafe\, 602 Lincolnway\, to pay for your reservation. All classes are non-refundable.
LOCATION:HotSpot Cafe 602 Lincolnway\, La Porte
UID:e.1949.4969
SEQUENCE:3
DTSTAMP:20260423T023037Z
URL:https://members.laportepartnership.com/events/details/transformation-coffee-canvas-4969
END:VEVENT

END:VCALENDAR
