BEGIN:VCALENDAR
VERSION:2.0
PRODID:-//ChamberMaster//Event Calendar 2.0//EN
METHOD:PUBLISH
X-PUBLISHED-TTL:P3D
REFRESH-INTERVAL:P3D
CALSCALE:GREGORIAN
BEGIN:VEVENT
DTSTART:20180323T223000Z
DTEND:20180324T013000Z
X-MICROSOFT-CDO-ALLDAYEVENT:FALSE
SUMMARY:Tribute to the Stars Spring Fundraiser benefitting Ivy Tech Students
DESCRIPTION::  The Ivy Tech Foundation presents the 14th annual Spring Fundraising Event on Friday\, March 23\, 2018 at 5:30 PM at the Aberdeen Manor\, 216 Ballantrae Street in Valparaiso.  The event includes dinner\, silent auction and a Tribute to the Stars entertainment featuring Jim Bulanda & Quentin Flagg.  Proceeds from this event will help support Ivy Tech students at the campuses in Lake County (East Chicago\, Gary and Crown Point/Merrillville)\, Michigan City and Valparaiso. \n\nTickets are $85 per person ($45 is tax deductible).  Tickets can be purchased on line at http://connect.ivytech.edu/events/springevent2018.  For more information\, please contact Cindy Hall at (219) 476-4710 or cjhall@ivytech.edu.  Reservations and ticket purchases by Friday\, March 9\, 2018.  \n\nThis Las Vegas-style act includes Bulanda paying tribute to the stars from Frank Sinatra and Dean Martin to Neil Diamond and Michael Buble\, just to name a few.  Flagg adds the high-energy rock 'n' roll of Bobby Darin\, Elvis Presley\, and Doo Wop to shake up the stage!  This exciting show will make you tap your toes\, snap your fingers\, and leave you wanting to dance!  \n\nIvy Tech Community College is the state's largest public post-secondary institution and the nation's largest singly accredited statewide community college system.  Ivy Tech has campuses throughout Indiana.  It serves as the state's engine of workforce development\, offering affordable degree programs and training that are aligned with the needs of its community along with courses and programs that transfer to other colleges and universities in Indiana.  Ivy Tech is accredited by the Higher Learning Commission and a member of the North Central Association.
X-ALT-DESC;FMTTYPE=text/html:<span style="font-family:times new roman\,serif\;"><span style="font-size:12.0pt\;">:&nbsp\; The Ivy Tech Foundation presents the 14<sup>th</sup> annual Spring Fundraising Event on Friday\, March 23\, 2018 at 5:30 PM at the Aberdeen Manor\, 216 Ballantrae Street in Valparaiso.&nbsp\; The event includes dinner\, silent auction and a<em> Tribute to the Stars </em>entertainment featuring Jim Bulanda &amp\; Quentin Flagg.&nbsp\; Proceeds from this event will help support Ivy Tech students at the campuses in Lake County (East Chicago\, Gary and Crown Point/Merrillville)\, Michigan City and Valparaiso. </span></span><br />\n<span style="color:black\;"><span style="font-family:times new roman\,serif\;"><span style="font-size:12.0pt\;">Tickets are $85 per person ($45 is tax deductible).&nbsp\; Tickets can be purchased on line at <a href="http://connect.ivytech.edu/events/springevent2018">http://connect.ivytech.edu/events/springevent2018</a>.&nbsp\; For more information\, please contact Cindy Hall at (219) 476-4710 or <a href="mailto:cjhall@ivytech.edu">cjhall@ivytech.edu</a>.&nbsp\; Reservations and ticket purchases by Friday\, March 9\, 2018.&nbsp\; </span></span></span><br />\n<span style="color:black\;"><span style="font-family:times new roman\,serif\;"><span style="font-size:12.0pt\;">This Las Vegas-style act includes Bulanda paying tribute to the stars from Frank Sinatra and Dean Martin to Neil Diamond and Michael Buble\, just to name a few.&nbsp\; Flagg adds the high-energy rock &lsquo\;n&rsquo\; roll of Bobby Darin\, Elvis Presley\, and Doo Wop to shake up the stage!&nbsp\; This exciting show will make you tap your toes\, snap your fingers\, and leave you wanting to dance!&nbsp\; </span></span></span><br />\n<em><span style="color:black\;"><span style="font-family:times new roman\,serif\;"><span style="font-size:12.0pt\;">Ivy Tech Community College is the state&rsquo\;s largest public post-secondary institution and the nation&rsquo\;s largest singly accredited statewide community college system.&nbsp\; Ivy Tech has campuses throughout Indiana.&nbsp\; It serves as the state&#39\;s engine of workforce development\, offering affordable degree programs and training that are aligned with the needs of its community along with courses and programs that transfer to other colleges and universities in Indiana.&nbsp\; Ivy Tech is accredited by the Higher Learning Commission and a member of the North Central Association</span></span></span></em><span style="color:black\;"><span style="font-family:times new roman\,serif\;"><span style="font-size:12.0pt\;">.</span></span></span>
LOCATION:Aberdeen Manor 216 Ballantrae Street Valparaiso
UID:e.1949.3044
SEQUENCE:3
DTSTAMP:20260424T134513Z
URL:https://members.laportepartnership.com/events/details/tribute-to-the-stars-spring-fundraiser-benefitting-ivy-tech-students-3044
END:VEVENT

END:VCALENDAR
