BEGIN:VCALENDAR
VERSION:2.0
PRODID:-//ChamberMaster//Event Calendar 2.0//EN
METHOD:PUBLISH
X-PUBLISHED-TTL:P3D
REFRESH-INTERVAL:P3D
CALSCALE:GREGORIAN
BEGIN:VEVENT
DTSTART:20180224T000000Z
DTEND:20180224T020000Z
X-MICROSOFT-CDO-ALLDAYEVENT:FALSE
SUMMARY:Trivia Night Benefiting the Pax Center
DESCRIPTION:Join the Pax Center for Trivia Night on February 23! The event will take place at State Street Community Church\, 209 State Street in La Porte\, beginning at 6:00 p.m. The night will include raffles and a silent auction. No outside food or drinks will be allowed\, but Papa John's pizza can be pre-ordered on the registration form. Concessions will also be available.\n\nMore information can be found on the Registration Form which is available for download Here.\n\nPlease email Krysta Loucks with any questions. Email: krystaloucks@gmail.com
X-ALT-DESC;FMTTYPE=text/html:<span style="color: rgb(69\, 69\, 69)\; font-family: Arial\, Helvetica\, sans-serif\; font-size: 13.3333px\;">Join the Pax Center for Trivia Night on February 23! The event will take place at State Street Community Church\, 209 State Street in La Porte\, beginning at 6:00 p.m. The night will include raffles and a silent auction. No outside food or drinks will be allowed\, but Papa John&rsquo\;s pizza can be pre-ordered on the registration form. Concessions will also be available.</span><br style="color: rgb(69\, 69\, 69)\; font-family: Arial\, Helvetica\, sans-serif\; font-size: 13.3333px\;" />\n<span style="color: rgb(69\, 69\, 69)\; font-family: Arial\, Helvetica\, sans-serif\; font-size: 13.3333px\;">More information can be found on the Registration Form which is available for download&nbsp\;</span><a _mce_href="http://statestreet.tv/wp-content/uploads/2018/01/Trivia-Night-Registration-Form.pdf" _mce_style="font-weight: bold\; color: #c24f13\; text-decoration: none\;" href="http://statestreet.tv/wp-content/uploads/2018/01/Trivia-Night-Registration-Form.pdf" linktype="1" style="font-family: Arial\, Helvetica\, sans-serif\; font-size: 13.3333px\; font-weight: bold\; color: rgb(194\, 79\, 19) !important\; text-decoration-line: none !important\;" target="_blank" track="on">Here.</a><br style="color: rgb(69\, 69\, 69)\; font-family: Arial\, Helvetica\, sans-serif\; font-size: 13.3333px\;" />\n<span style="color: rgb(69\, 69\, 69)\; font-family: Arial\, Helvetica\, sans-serif\; font-size: 13.3333px\;">Please email Krysta Loucks with any questions. Email: krystaloucks@gmail.com</span>
LOCATION:State Street Community Church 209 State Street La Porte
UID:e.1949.3024
SEQUENCE:3
DTSTAMP:20260424T155039Z
URL:https://members.laportepartnership.com/events/details/trivia-night-benefiting-the-pax-center-3024
END:VEVENT

END:VCALENDAR
