BEGIN:VCALENDAR
VERSION:2.0
PRODID:-//ChamberMaster//Event Calendar 2.0//EN
METHOD:PUBLISH
X-PUBLISHED-TTL:P3D
REFRESH-INTERVAL:P3D
CALSCALE:GREGORIAN
BEGIN:VEVENT
DTSTART:20171230T150000Z
DTEND:20171230T210000Z
X-MICROSOFT-CDO-ALLDAYEVENT:FALSE
SUMMARY:Try Something New....Year
DESCRIPTION:Come celebrate the New Year with the Clarks. Relax with 4 - 20 minute treatments (Reflexology/Facial/Cranio-Sacral and a Table Massage) Enjoy delicious appetizers Sip on yummy Bloody Mary's There will be 3 groups of 4 people per time slot so once they are filled we have no more room. Must pre-register and pre pay before the 26th.
X-ALT-DESC;FMTTYPE=text/html:Come celebrate the New Year with the Clarks. Relax with 4 - 20 minute treatments (Reflexology/Facial/Cranio-Sacral and a Table Massage) Enjoy delicious appetizers Sip on yummy Bloody Mary&#39\;s There will be 3 groups of 4 people per time slot so once they are filled we have no more room. Must pre-register and pre pay before the 26th.
LOCATION:Clark's Family Chiropractic 6646 W. Johnson Rd La Porte\, IN 46350
UID:e.1949.2977
SEQUENCE:3
DTSTAMP:20260424T192850Z
URL:https://members.laportepartnership.com/events/details/try-something-new-year-2977
END:VEVENT

END:VCALENDAR
