BEGIN:VCALENDAR
VERSION:2.0
PRODID:-//ChamberMaster//Event Calendar 2.0//EN
METHOD:PUBLISH
X-PUBLISHED-TTL:P3D
REFRESH-INTERVAL:P3D
CALSCALE:GREGORIAN
BEGIN:VEVENT
DTSTART:20171111T190000Z
DTEND:20171112T040000Z
X-MICROSOFT-CDO-ALLDAYEVENT:FALSE
SUMMARY:Turn Up The Lights
DESCRIPTION:Turn Up The Lights\, hosted by People & Songs\, is a Live-Recording and Community Arts Festival. All net proceeds go toward Arts in the Park's fundraising efforts for the Fox Park Amphitheater expansion project. This day-long Live-Recording festival features the Tom Milo Big Band and Veterans Day salute as the matinee\, 5 different individual acts\, award winning\, Selah as the headliner\, and the community of People & Songs as the Grand Finale. There will be artisan booths\, merch tables\, catering and food trucks available.
X-ALT-DESC;FMTTYPE=text/html:Turn Up The Lights\, hosted by People &amp\; Songs\, is a Live-Recording and Community Arts Festival. All net proceeds go toward Arts in the Park&rsquo\;s fundraising efforts for the Fox Park Amphitheater expansion project. This day-long Live-Recording festival features the Tom Milo Big Band and Veterans Day salute as the matinee\, 5 different individual acts\, award winning\, Selah as the headliner\, and the community of People &amp\; Songs as the Grand Finale. There will be artisan booths\, merch tables\, catering and food trucks available.
LOCATION:La Porte Civic Auditorium
UID:e.1949.2878
SEQUENCE:3
DTSTAMP:20260424T211043Z
URL:https://members.laportepartnership.com/events/details/turn-up-the-lights-2878
END:VEVENT

END:VCALENDAR
