BEGIN:VCALENDAR
VERSION:2.0
PRODID:-//ChamberMaster//Event Calendar 2.0//EN
METHOD:PUBLISH
X-PUBLISHED-TTL:P3D
REFRESH-INTERVAL:P3D
CALSCALE:GREGORIAN
BEGIN:VEVENT
DTSTART:20180731T180000Z
DTEND:20180731T190000Z
X-MICROSOFT-CDO-ALLDAYEVENT:FALSE
SUMMARY:Understanding Alzheimer's and Dementia Program
DESCRIPTION:A free Community Gathering for Caregivers and Professionals who would like... "A Better Understanding of Alzheimer's and Dementia" (Light Refreshments)\n\n\n\n1:00-2:00 p.m.\n\nSettler Place Senior Living\n\n3304 Monroe Street\n\nLa Porte\, IN 46350\n\n\n\nTuesday\, July 31st\n\nUnderstanding Alzheimer's and Dementia\n\nPresented by Tish Holmes\, BA\, QIDP\, QDDP\, Program Deirector of Alzheimer's & Dementia Services of Northern Indiana\n\nVisit: www.alzni.org or Facebook: Alzheimer's and Dementia Services\, a division of REAL Services\n\n\n\nPlease RSVP by Sunday\, July 29\, 2018 to Jutka Kis\, Community Relations Manager\, Settlers Place\, La Porte\n\n219-326-7283 or 574-210-3690
X-ALT-DESC;FMTTYPE=text/html:A free Community Gathering for Caregivers and Professionals who would like... &quot\;A Better Understanding of Alzheimer&#39\;s and Dementia&quot\; (Light Refreshments)<br />\n<br />\n1:00-2:00 p.m.<br />\nSettler Place Senior Living<br />\n3304 Monroe Street<br />\nLa Porte\, IN 46350<br />\n<br />\nTuesday\, July 31st<br />\nUnderstanding Alzheimer&#39\;s and Dementia<br />\nPresented by Tish Holmes\, BA\, QIDP\, QDDP\, Program Deirector of Alzheimer&#39\;s &amp\; Dementia Services of Northern Indiana<br />\nVisit: www.alzni.org or Facebook: Alzheimer&#39\;s and Dementia Services\, a division of REAL Services<br />\n<br />\nPlease RSVP by Sunday\, July 29\, 2018 to Jutka Kis\, Community Relations Manager\, Settlers Place\, La Porte<br />\n219-326-7283 or 574-210-3690
LOCATION:Setters Place Senior Living 3304 Monroe Street La Porte
UID:e.1949.4215
SEQUENCE:3
DTSTAMP:20260424T070749Z
URL:https://members.laportepartnership.com/events/details/understanding-alzheimer-s-and-dementia-program-4215
END:VEVENT

END:VCALENDAR
