BEGIN:VCALENDAR
VERSION:2.0
PRODID:-//ChamberMaster//Event Calendar 2.0//EN
METHOD:PUBLISH
X-PUBLISHED-TTL:P3D
REFRESH-INTERVAL:P3D
CALSCALE:GREGORIAN
BEGIN:VEVENT
DTSTART:20160930T140000Z
DTEND:20160930T230000Z
X-MICROSOFT-CDO-ALLDAYEVENT:FALSE
SUMMARY:Unified Car Wash to Benefit La Porte County United Way
DESCRIPTION:The Michigan City Police\, Michigan City Fire\, and Michigan City Area Schools present a "fun-raising" unified car wash and "free" hot dog lunch to benefit the La Porte County United Way! The event will take place on Friday\, September 30 from 9:00 a.m.-6:00 p.m. The minimum donation is $5. Mums will also be for sale at this event. Don't miss WEFM's "Tropical Oldies" show with John Records Landecker and Mike Dempsey broadcasting LIVE from the car wash.
X-ALT-DESC;FMTTYPE=text/html:The Michigan City Police\, Michigan City Fire\, and Michigan City Area Schools present a &quot\;fun-raising&quot\; unified car wash and &quot\;free&quot\; hot dog lunch to benefit the La Porte County United Way! The event will take place on Friday\, September 30 from 9:00 a.m.-6:00 p.m. The minimum donation is $5. Mums will also be for sale at this event. Don&#39\;t miss WEFM&#39\;s&nbsp\;&quot\;Tropical Oldies&quot\; show with John Records Landecker and Mike Dempsey broadcasting LIVE from the car&nbsp\;wash.
LOCATION:Across from Ames Field Michigan City
UID:e.1949.2626
SEQUENCE:3
DTSTAMP:20260425T223925Z
URL:https://members.laportepartnership.com/events/details/unified-car-wash-to-benefit-la-porte-county-united-way-2626
END:VEVENT

END:VCALENDAR
