BEGIN:VCALENDAR
VERSION:2.0
PRODID:-//ChamberMaster//Event Calendar 2.0//EN
METHOD:PUBLISH
X-PUBLISHED-TTL:P3D
REFRESH-INTERVAL:P3D
CALSCALE:GREGORIAN
BEGIN:VEVENT
DTSTART:20161112T000000Z
DTEND:20161112T030000Z
X-MICROSOFT-CDO-ALLDAYEVENT:FALSE
SUMMARY:United Way Fall Gala: A Tribute to the 40's & 50's USO
DESCRIPTION:Fall Gala: \n\nA Tribute to the 40's & 50's USO\n\n\n\n \n\n               TICKETS NOW ON SALE!\n\n \n\nWhen: November 11th\, 2016. Doors open at 6:00pm CT. \n\n \n\nWhere: Stardust Event Center\, Blue Chip Casino\, Hotel & Spa\n\n \n\nAttire: USO girls\, Captain America\, military uniforms\, 1950's military movie characters\, and more!
X-ALT-DESC;FMTTYPE=text/html:<p style="margin:0in\;margin-bottom:.0001pt"><strong><span style="font-size:\n14.0pt\;font-family:&quot\;Arial&quot\;\,sans-serif\;color:black">&nbsp\; &nbsp\; &nbsp\; &nbsp\; &nbsp\; &nbsp\; &nbsp\; &nbsp\; &nbsp\; &nbsp\; &nbsp\; &nbsp\; &nbsp\; &nbsp\; Fall Gala:&nbsp\;</span></strong><span style="font-size:14.0pt\;\nfont-family:&quot\;Arial&quot\;\,sans-serif\;color:black"><o:p></o:p></span></p>\n\n<p align="center" style="margin:0in\;margin-bottom:.0001pt\;text-align:center"><span size="3"><strong><span style="font-size:14.0pt\;font-family:&quot\;Arial&quot\;\,sans-serif\;\ncolor:black">A Tribute to the 40&#39\;s &amp\; 50&#39\;s USO</span></strong></span><span style="font-size:14.0pt\;font-family:&quot\;Arial&quot\;\,sans-serif\;color:black"><o:p></o:p></span></p>\n\n<p align="center" style="margin:0in\;margin-bottom:.0001pt\;text-align:center"><br />\n<span size="3"><b><span style="font-size:14.0pt\;font-family:&quot\;Arial&quot\;\,sans-serif\;\ncolor:black"><strong>&nbsp\;</strong></span></b></span><span style="font-size:14.0pt\;font-family:&quot\;Arial&quot\;\,sans-serif\;color:black"><o:p></o:p></span></p>\n\n<p style="margin:0in\;margin-bottom:.0001pt"><span size="3"><strong><span style="font-size:14.0pt\;font-family:&quot\;Arial&quot\;\,sans-serif\;color:black">&nbsp\;&nbsp\;&nbsp\;&nbsp\;&nbsp\;&nbsp\;&nbsp\;&nbsp\;&nbsp\;&nbsp\;&nbsp\;&nbsp\;&nbsp\;&nbsp\; TICKETS NOW ON SALE!</span></strong></span><span style="font-size:14.0pt\;\nfont-family:&quot\;Arial&quot\;\,sans-serif\;color:black"><o:p></o:p></span></p>\n\n<p style="margin:0in\;margin-bottom:.0001pt"><span size="3"><strong><span style="font-size:14.0pt\;font-family:&quot\;Arial&quot\;\,sans-serif\;color:black">&nbsp\;</span></strong></span><span style="font-size:14.0pt\;font-family:&quot\;Arial&quot\;\,sans-serif\;color:black"><o:p></o:p></span></p>\n\n<p style="margin:0in\;margin-bottom:.0001pt"><span size="3"><strong><span style="font-size:14.0pt\;font-family:&quot\;Arial&quot\;\,sans-serif\;color:black">When: </span></strong></span><span size="3"><span style="font-size:14.0pt\;font-family:&quot\;Arial&quot\;\,sans-serif\;color:black">November 11th\, 2016. Doors open at 6:00pm CT. </span><o:p></o:p></span></p>\n\n<p style="margin:0in\;margin-bottom:.0001pt"><span size="3"><strong><span style="font-size:14.0pt\;font-family:&quot\;Arial&quot\;\,sans-serif\;color:black">&nbsp\;</span></strong></span><span style="font-size:14.0pt\;font-family:&quot\;Arial&quot\;\,sans-serif\;color:black"><o:p></o:p></span></p>\n\n<p style="margin:0in\;margin-bottom:.0001pt"><span size="3"><strong><span style="font-size:14.0pt\;font-family:&quot\;Arial&quot\;\,sans-serif\;color:black">Where: </span></strong><span style="font-size:14.0pt\;font-family:&quot\;Arial&quot\;\,sans-serif\;color:black">Stardust Event Center\, Blue Chip Casino\, Hotel &amp\; Spa</span><o:p></o:p></span></p>\n\n<p style="margin:0in\;margin-bottom:.0001pt"><span size="3"><span style="font-size:14.0pt\;font-family:&quot\;Arial&quot\;\,sans-serif\;color:black">&nbsp\;</span><o:p></o:p></span></p>\n\n<p style="margin:0in\;margin-bottom:.0001pt"><span size="3"><strong><span style="font-size:14.0pt\;font-family:&quot\;Arial&quot\;\,sans-serif\;color:black">Attire: </span></strong><span style="font-size:14.0pt\;font-family:&quot\;Arial&quot\;\,sans-serif\;color:black">USO girls\, Captain America\, military uniforms\, </span><span size="3">1950&#39\;s military movie characters\, and more!</span><o:p></o:p></span></p>\n
LOCATION:Stardust Event Center\, Blue Chip Casino 777 Blue Chip Drive Michigan City
UID:e.1949.2656
SEQUENCE:3
DTSTAMP:20260425T190530Z
URL:https://members.laportepartnership.com/events/details/united-way-fall-gala-a-tribute-to-the-40-s-50-s-uso-2656
END:VEVENT

END:VCALENDAR
