BEGIN:VCALENDAR
VERSION:2.0
PRODID:-//ChamberMaster//Event Calendar 2.0//EN
METHOD:PUBLISH
X-PUBLISHED-TTL:P3D
REFRESH-INTERVAL:P3D
CALSCALE:GREGORIAN
BEGIN:VEVENT
DTSTART:20160922T223000Z
DTEND:20160923T000000Z
X-MICROSOFT-CDO-ALLDAYEVENT:FALSE
SUMMARY:United Way of LaPorte County 2016 Campaign Kick-Off and Business after Hours
DESCRIPTION:United Way of LaPorte County 2016 Campaign Kick-Off Event\n\nPlease support your local campaign\n\nUnited Way fights for the health\, education\, and financial stability of every person in LaPorte County.\n\n\n\nThe Greater La Porte\, the Michigan City Area\, and the Westvillle Chambers of Commerce invite you to attend a Joint-Chamber Business after Hours in the Great Hall of the James B. Dworkin Student Services and Activities Complex (PNW Campus).\n\nSeptember 22\, 2016\n\n5:30 p.m.-7:00 p.m.\n\nFeaturing food\, entertainment\, and cash bar\n\n\n\nCelebrating 20 Years of Living United in LaPorte County
X-ALT-DESC;FMTTYPE=text/html:<strong>United Way of LaPorte County 2016 Campaign Kick-Off Event</strong><br />\nPlease support your local campaign<br />\nUnited Way fights for the health\, education\, and financial stability of every person in LaPorte County.<br />\n<br />\nThe Greater La Porte\, the Michigan City Area\, and the Westvillle Chambers of Commerce invite you to attend a Joint-Chamber Business after Hours in the Great Hall of the James B. Dworkin Student Services and Activities Complex (PNW Campus).<br />\nSeptember 22\, 2016<br />\n5:30 p.m.-7:00 p.m.<br />\nFeaturing food\, entertainment\, and cash bar<br />\n<br />\nCelebrating 20 Years of Living United in LaPorte County
LOCATION:Great Hall\, James B. Dworkin Student Services and Activities Complex 1401 US 421\, Westville
UID:e.1949.2611
SEQUENCE:3
DTSTAMP:20260425T223932Z
URL:https://members.laportepartnership.com/events/details/united-way-of-laporte-county-2016-campaign-kick-off-and-business-after-hours-09-22-2016-2611
END:VEVENT

END:VCALENDAR
