BEGIN:VCALENDAR
VERSION:2.0
PRODID:-//ChamberMaster//Event Calendar 2.0//EN
METHOD:PUBLISH
X-PUBLISHED-TTL:P3D
REFRESH-INTERVAL:P3D
CALSCALE:GREGORIAN
BEGIN:VEVENT
DTSTART:20200430T183000Z
DTEND:20200430T193000Z
X-MICROSOFT-CDO-ALLDAYEVENT:FALSE
SUMMARY:Update/Q&A with Congresswoman Jackie Walorski
DESCRIPTION:LEAP presents an Update and Q&A session with Congresswoman Jackie Walorski Thursday\, April 30th at 1:30 p.m. CST. The congresswoman will give a 5-10 minute update on the COVID-19 crisis followed by a Q&A where she will answer your questions. To register\, email Lindsay at lindsayj@laportepartnership.com.
X-ALT-DESC;FMTTYPE=text/html:LEAP presents an Update and Q&amp\;A session with Congresswoman Jackie Walorski Thursday\, April 30th at 1:30 p.m. CST. The congresswoman will give a 5-10 minute update on the COVID-19 crisis followed by a Q&amp\;A where she will answer your questions. To register\, email Lindsay at lindsayj@laportepartnership.com.
LOCATION:Your Home or Office
UID:e.1949.4592
SEQUENCE:3
DTSTAMP:20260422T193036Z
URL:https://members.laportepartnership.com/events/details/update-q-a-with-congresswoman-jackie-walorski-4592
END:VEVENT

END:VCALENDAR
