BEGIN:VCALENDAR
VERSION:2.0
PRODID:-//ChamberMaster//Event Calendar 2.0//EN
METHOD:PUBLISH
X-PUBLISHED-TTL:P3D
REFRESH-INTERVAL:P3D
CALSCALE:GREGORIAN
BEGIN:VEVENT
DTSTART:20170313T140000Z
DTEND:20170317T210000Z
X-MICROSOFT-CDO-ALLDAYEVENT:FALSE
SUMMARY:Veteran Employment Transition Seminar (VETS)- WorkOne La Porte
DESCRIPTION:Are You Job Searching?\n\nVeteran Employment Transition Seminar (VETS)\n\nWorkOne LaPorte is hosting Operation: Job Ready Veterans. The program presents a 5-day comprehensive\, developmental and empowering seminar\, to prepare veterans to re-engage the job market.\n\nThe seminar outline includes Assessments\, Coping with Change\, Advanced Resume Prep\, Research and Networking\, and Interview Preparation.\n\nLunch will be provided and on Friday there will be a graduation ceremony in which employers and veteran participants will engage in a meet and greet.\n\n \nJoin us for the seminar!\n\nWhen: March 13-17\, 2017\n\nTime: 9:00 am-4:00 pm\n\nWhere: WorkOne LaPorte\n\n300 Legacy Plaza West\n\nLaPorte\, IN 46350\n\nIn order to participate\, you must register for these services. Please contact:\n\nAlfred Hughes at 219-362-2175\, ext. 541 or ahughes@gotoworkonenw.com\n\n \nWho is eligible to participate:\n\nVeterans that received any discharge other than dishonorable\n\nMembers of the Indiana National Guard or Reserve\n\nSpouses of Veterans\n\nActive Duty\, National Guard or Reserve spouses\n\nMilitary caregivers
X-ALT-DESC;FMTTYPE=text/html:<div data-canvas-width="589.7399999999999" style="left: 67.6px\; top: 397.083px\; font-size: 60px\; font-family: sans-serif\; transform: scaleX(0.914491)\;">Are You Job Searching?</div>\n\n<div data-canvas-width="742.0649999999999" style="left: 138.64px\; top: 491.543px\; font-size: 36.6px\; font-family: sans-serif\; transform: scaleX(0.944403)\;">Veteran Employment Transition Seminar (VETS)</div>\n\n<div data-canvas-width="841.0654000000003" style="left: 100px\; top: 551.943px\; font-size: 26.6px\; font-family: sans-serif\; transform: scaleX(0.934534)\;">WorkOne LaPorte is hosting Operation: Job Ready Veterans. The program presents a 5-day comprehensive\, developmental and empowering seminar\, to prepare veterans to re-engage the job market.</div>\n\n<div data-canvas-width="337.44759999999997" style="left: 609.717px\; top: 612.143px\; font-size: 26.6px\; font-family: sans-serif\; transform: scaleX(0.975141)\;">The seminar outline includes Assessments\, Coping with Change\, Advanced Resume Prep\, Research and Networking\, and Interview Preparation.</div>\n\n<div data-canvas-width="870.6399999999998" style="left: 77px\; top: 713.517px\; font-size: 20px\; font-family: sans-serif\; transform: scaleX(0.925983)\;">Lunch will be provided and on Friday there will be a graduation ceremony in which employers and veteran participants will engage in a meet and greet.</div>\n\n<div data-canvas-width="363.26" style="left: 328.233px\; top: 737.517px\; font-size: 20px\; font-family: sans-serif\; transform: scaleX(0.928579)\;">&nbsp\;\n<div data-canvas-width="232.33859999999996" style="left: 64.8px\; top: 784.657px\; font-size: 23.4px\; font-family: sans-serif\; transform: scaleX(0.955143)\;">Join us for the seminar!</div>\n\n<div data-canvas-width="69.732" style="left: 64.8px\; top: 822.657px\; font-size: 23.4px\; font-family: sans-serif\; transform: scaleX(0.94063)\;">When: March 13-17\, 2017</div>\n\n<div data-canvas-width="62.127" style="left: 64.8px\; top: 860.657px\; font-size: 23.4px\; font-family: sans-serif\; transform: scaleX(0.968464)\;">Time: 9:00 am-4:00 pm</div>\n\n<div data-canvas-width="76.89240000000001" style="left: 64.8px\; top: 898.657px\; font-size: 23.4px\; font-family: sans-serif\; transform: scaleX(0.938475)\;">Where:&nbsp\;WorkOne LaPorte</div>\n\n<div data-canvas-width="224.56979999999996" style="left: 137.24px\; top: 936.657px\; font-size: 23.4px\; font-family: sans-serif\; transform: scaleX(0.914993)\;">300 Legacy Plaza West</div>\n\n<div data-canvas-width="177.51112000000003" style="left: 137.24px\; top: 974.621px\; font-size: 23.44px\; font-family: sans-serif\; transform: scaleX(0.933123)\;">LaPorte\, IN 46350</div>\n\n<div data-canvas-width="741.1482" style="left: 139.24px\; top: 1103.71px\; font-size: 23.4px\; font-family: sans-serif\; transform: scaleX(0.954391)\;">In order to participate\, you must register for these services. Please contact:</div>\n\n<div data-canvas-width="212.77619999999996" style="left: 129.44px\; top: 1141.7px\; font-size: 23.4px\; font-family: sans-serif\; transform: scaleX(0.967751)\;">Alfred Hughes at 219-362-2175\, ext. 541 or ahughes@gotoworkonenw.com<br />\n&nbsp\;\n<div data-canvas-width="294.723" style="left: 502.283px\; top: 784.657px\; font-size: 23.4px\; font-family: sans-serif\; transform: scaleX(0.989391)\;">Who is eligible to participate:</div>\n\n<div style="left: 502.283px\; top: 832.427px\; font-size: 16.6px\; font-family: sans-serif\;">Veterans that received any discharge other than dishonorable</div>\n\n<div style="left: 502.283px\; top: 888.427px\; font-size: 16.6px\; font-family: sans-serif\;">Members of the Indiana National Guard or Reserve</div>\n\n<div style="left: 502.283px\; top: 944.427px\; font-size: 16.6px\; font-family: sans-serif\;">Spouses of Veterans</div>\n\n<div style="left: 502.283px\; top: 972.427px\; font-size: 16.6px\; font-family: sans-serif\;">Active Duty\, National Guard or Reserve spouses</div>\n\n<div style="left: 502.283px\; top: 1028.48px\; font-size: 16.6px\; font-family: sans-serif\;">Military caregivers</div>\n</div>\n</div>\n
LOCATION:WorkOne LaPorte 300 Legacy Plaza West LaPorte\, IN 46350
UID:e.1949.2716
SEQUENCE:3
DTSTAMP:20260425T114825Z
URL:https://members.laportepartnership.com/events/details/veteran-employment-transition-seminar-vets-workone-la-porte-2716
END:VEVENT

END:VCALENDAR
