BEGIN:VCALENDAR
VERSION:2.0
PRODID:-//ChamberMaster//Event Calendar 2.0//EN
METHOD:PUBLISH
X-PUBLISHED-TTL:P3D
REFRESH-INTERVAL:P3D
CALSCALE:GREGORIAN
BEGIN:VEVENT
DTSTART:20171207T150000Z
DTEND:20171207T160000Z
X-MICROSOFT-CDO-ALLDAYEVENT:FALSE
SUMMARY:Veterans Hiring Event at WorkOne Portage
DESCRIPTION:Veterans Hiring Event\n\nThursday\, December 7\, 2017\n\nEvent starts promptly at 9:00 a.m.\n\nOpen to all veterans and eligible spouses\n\nFeaturing:\n\nHoosier Machinery Solutions\, Carmeuse\, Arconic\n\n \n\nAvailable Positions:\n\ngo to www.indianacareerconnect.com and search for job order number 8952924 to find all open for this hiring event. To be considered for open positions\, apply to job order number 8952924\, attach your resume in Indiana Career Connect\, and attend this event.\n\nHiring Event Location:\n\nWorkOne Portage\n\nAmeriplex Commercial Park\n\n1575 Adler Circle\, Suite A- Portage\, IN\n\nQuestions?\n\nContact Jon Ray 219-713-5873\, or jray@gotoworkonenw.com.\n\n\n\nImportant Information:\n\n-Arrive at 8:45 a.m.\n\n-Bring several copies of updated resumes\n\n-Come dressed for success
X-ALT-DESC;FMTTYPE=text/html:Veterans Hiring Event<br />\nThursday\, December 7\, 2017<br />\nEvent starts promptly at 9:00 a.m.<br />\nOpen to all veterans and eligible spouses<br />\nFeaturing:<br />\nHoosier Machinery Solutions\, Carmeuse\, Arconic<br />\n&#8203\;<br />\nAvailable Positions:<br />\ngo to www.indianacareerconnect.com and search for job order number 8952924 to find all open for this hiring event. To be considered for open positions\, apply to job order number 8952924\, attach your resume in Indiana Career Connect\, and attend this event.<br />\nHiring Event Location:<br />\nWorkOne Portage<br />\nAmeriplex Commercial Park<br />\n1575 Adler Circle\, Suite A- Portage\, IN<br />\nQuestions?<br />\nContact Jon Ray 219-713-5873\, or jray@gotoworkonenw.com.<br />\n<br />\nImportant Information:<br />\n-Arrive at 8:45 a.m.<br />\n-Bring several copies of updated resumes<br />\n-Come dressed for success
LOCATION:WorkOne Portage Ameriplex Commercial Park 1575 Adler Circle\, Suite A Portage
UID:e.1949.2976
SEQUENCE:3
DTSTAMP:20260424T213040Z
URL:https://members.laportepartnership.com/events/details/veterans-hiring-event-at-workone-portage-2976
END:VEVENT

END:VCALENDAR
