BEGIN:VCALENDAR
VERSION:2.0
PRODID:-//ChamberMaster//Event Calendar 2.0//EN
METHOD:PUBLISH
X-PUBLISHED-TTL:P3D
REFRESH-INTERVAL:P3D
CALSCALE:GREGORIAN
BEGIN:VEVENT
DTSTART:20161111T000000Z
DTEND:20161111T020000Z
X-MICROSOFT-CDO-ALLDAYEVENT:FALSE
SUMMARY:Vintage Veterans Basketball Classic- La Porte County Family YMCA
DESCRIPTION:On Thursday\, November 10th at 6:00 p.m.\, an all-star roster of past La Porte and Michigan City men's basketball players will face off in the second annual Vintage Veterans Basketball Classic. This fun-filled event will take place at the La Porte County Family YMCA's Michigan City Elston Branch and feature celebrity coaches\, cheerleaders\, music and more. We are also commemorating the 20th anniversary of the La Porte Slicers 1996-97 Final Four team. In honor of Veterans Day\, we will be honoring our country's Armed Forces Veterans before tip-off. All veterans in attendance will receive free admission plus a free small popcorn as a token of our thanks for their service.\n\nEvent sponsors to date include Vison Self Pay Revenue Recovery\, Horizon Bank\, Parkinson & Hinton\, Inc.\, P.C.\, La Porte County Convention and Visitors Bureau\, Jim and Susan Aaron\, Larson-Danielson\, The Hay Family\, Tom Edwards\, Tom Dent\, Meridian Title\, Newby\, Lewis\, Kaminski & Jones\, LLP\, Nick Otis\, Michael and Nolah Gertner\, R.L. Roofing\, Inc.\, Patrick's Grille\, True Color and Galveston Steakhouse. At the Y\, we operate with the philosophy of charging fees to those who have the ability to pay\, and helping those who don't. Proceeds from this event will benefit the Y Scholarship Fund and be used to ensure all La Porte County residents have the opportunity to take advantage of important Y programs like swim lessons\, youth sports and preschool.\n\nTo purchase tickets or make a donation online\, visit https://app.mobilecause.com/vf/VINTAGE or text VINTAGE to 71777. Tickets are also available for purchase at any Y Branch as well as the La Porte High School and Michigan City High School athletic departments. Questions? Please contact Michelle Shirk or Jessica Schutz at (219) 325-9622.
X-ALT-DESC;FMTTYPE=text/html:On Thursday\, November 10th at 6:00 p.m.\, an all-star roster of past La Porte and Michigan City men&#39\;s basketball players will face off in the second annual Vintage Veterans Basketball Classic. This fun-filled event will take place at the La Porte County Family YMCA&#39\;s Michigan City Elston Branch and feature celebrity coaches\, cheerleaders\, music and more. We are also commemorating the 20th anniversary of the La Porte Slicers 1996-97 Final Four team. In honor of Veterans Day\, we will be honoring our country&#39\;s Armed Forces Veterans before tip-off. All veterans in attendance will receive free admission plus a free small popcorn as a token of our thanks for their service.<br />\nEvent sponsors to date include Vison Self Pay Revenue Recovery\, Horizon Bank\, Parkinson &amp\; Hinton\, Inc.\, P.C.\, La Porte County Convention and Visitors Bureau\, Jim and Susan Aaron\, Larson-Danielson\, The Hay Family\, Tom Edwards\, Tom Dent\, Meridian Title\, Newby\, Lewis\, Kaminski &amp\; Jones\, LLP\, Nick Otis\, Michael and Nolah Gertner\, R.L. Roofing\, Inc.\, Patrick&rsquo\;s Grille\, True Color and Galveston Steakhouse. At the Y\, we operate with the philosophy of charging fees to those who have the ability to pay\, and helping those who don&rsquo\;t. Proceeds from this event will benefit the Y Scholarship Fund and be used to ensure all La Porte County residents have the opportunity to take advantage of important Y programs like swim lessons\, youth sports and preschool.<br />\nTo purchase tickets or make a donation online\, visit https://app.mobilecause.com/vf/VINTAGE or text VINTAGE to 71777. Tickets are also available for purchase at any Y Branch as well as the La Porte High School and Michigan City High School athletic departments. Questions? Please contact Michelle Shirk or Jessica Schutz at (219) 325-9622.
LOCATION:La Porte County Family YMCA's Michigan City Elston Branch 1202 Spring St.\, Door K Michigan City
UID:e.1949.2667
SEQUENCE:3
DTSTAMP:20260425T191519Z
URL:https://members.laportepartnership.com/events/details/vintage-veterans-basketball-classic-la-porte-county-family-ymca-2667
END:VEVENT

END:VCALENDAR
