BEGIN:VCALENDAR
VERSION:2.0
PRODID:-//ChamberMaster//Event Calendar 2.0//EN
METHOD:PUBLISH
X-PUBLISHED-TTL:P3D
REFRESH-INTERVAL:P3D
CALSCALE:GREGORIAN
BEGIN:VEVENT
DTSTART;VALUE=DATE:20180324
DTEND;VALUE=DATE:20180326
TRANSP:TRANSPARENT
X-MICROSOFT-CDO-ALLDAYEVENT:TRUE
SUMMARY:Vocal Auditions for Hoosier Star Competition
DESCRIPTION:La Porte County Symphony Orchestra (LCSO) is looking for contestants for the thirteenth annual Hoosier STAR competition. The Hoosier STAR competition\, sponsored by Horizon Bank and NIPSCO\, is open to amateur singers of all musical styles and age groups. This year\, duet competitors are also invited to audition! Auditions will be on Saturday\, March 24 from 9 a.m. to 5 p.m. (CDT) and Sunday\, March 25 from 12 p.m. to 5 p.m. (CDT). The auditions will take place at the La Porte Little Theatre\, 218 A Street\, La Porte\, Indiana.   \n\n  \n\nThe Hoosier STAR vocal competition brings together amateur singers throughout the state to compete for recognition and cash prizes. Contestants are divided into two age groups:  youth - 17 years old and under\; and adult - 18 years old and over (at the time of auditions). Ten finalists\, five in each age group\, will advance to the final event and the chance to win monetary prizes along with the title of 2018 Hoosier STAR winner. Duet performers will enter as and be considered one finalist per each duet group.\n\n \n\nThe 10 Hoosier STAR finalists will perform along with the La Porte County Symphony Orchestra\, conducted by Philip Bauman on Saturday\, September 8\, 2018 at the La Porte Civic Auditorium. Audience members will choose the final two winners in each age division based on that night's performances. First and second place in the Youth Division will receive $500 and $250 respectively. First and second place in the Adult Division will receive $1\,000 and $500 respectively. \n\n \n\nRegistration forms can be found at HoosierSTAR.com. Contestants are encouraged to pre-register for a guaranteed time slot. The registration fee for the audition is $20 per person or duet. If a competitor would like to audition as a soloist and a duet\, they must submit two separate audition forms\, including separate fees. Audition applications must be postmarked by March 16th in order to receive a guaranteed time slot. Walk-ins are accepted on a first-come\, first-served basis during the audition dates. \n\n \n\nHoosier STAR is open to amateur soloists and duets only\; no group performances may enter\, and both competitors in a duet must be from the same age division. For auditions\, applicants may provide their own accompanist\, use a CD with no lead vocals\, supply a digital mp3 capable device\, or sing a cappella. \n\n \n\n"As a past winner and two-time co-chair of the event in the past\, Hoosier STAR has become a beacon of joy to me personally and I know all of the finalists that are involved each year find it thrilling too! It truly is a once in a lifetime experience to be on that stage singing your heart out with a full symphony behind you\," said Nanda Danitschek\, LCSO Executive Director.\n\n \n\n"It is exciting to be able to help vocalists of all ages experience their dreams and this event provides the opportunity for them to perform for a live audience with the accompaniment of a full orchestra\," said Cherri Blair-Drayton\, co-chair of the event. "The Hoosier STAR event showcases outstanding vocal talent and is one of the hottest tickets for entertainment in the state of Indiana!\n\n \n\nWHAT:  Hoosier STAR is a statewide vocal competition sponsored by Horizon Bank and NIPSCO. All proceeds from the event benefit La Porte County Symphony Orchestra. Auditions\, open to amateur singers of all ages and musical styles\, are held to select 10 finalists who will compete for cash prizes at the September 8\, 2018 event. The finalists perform with the La Porte County Orchestra and winners are determined by audience vote. \n\n \n\nWHO:  A contestant of any age must be an amateur vocalist and must be a resident of the state of Indiana or Southwest Michigan.  \n\n \n\nWHEN:  March 25\, 9:00 a.m. - 5:00 pm & March 25\, Noon - 5:00 p.m. \n\n \n\nWHERE:  La Porte Little Theatre\, 218 A Street\, La Porte\, Indiana 46350 \n\n \n\nHOW:  Preregister for a time slot with a $20 audition fee\, checks made payable to La Porte County Symphony Orchestra. \n\nThe deadline for entry is March 16\, 2018. Entries past this date are accepted\, but requested time slots are not guaranteed.  Walk-ins on the day of auditions will be worked into the schedule.  \n\n \n\nTo download an audition or rule form:  \n\nHoosierStar.com      \n\nCall (219) 362-9020   or email HoosierSTAR2018@gmail.com \n\nApplicants will be notified of their assigned audition date and time within a week prior to the auditions.
X-ALT-DESC;FMTTYPE=text/html:<span style="font-family:arial\,sans-serif\;">La Porte County Symphony Orchestra (LCSO)<span style="color:#373737\;"> is looking for contestants for the thirteenth annual Hoosier STAR competition. The Hoosier STAR competition\, sponsored by </span>Horizon Bank<span style="color:#373737\;"> and </span>NIPSCO<span style="color:#373737\;">\, is open to amateur singers of all musical styles and age groups. <strong>This year\, duet competitors are also invited to audition! </strong>Auditions will be on Saturday\, March 24 from 9 a.m. to 5 p.m. (CDT) and Sunday\, March 25 from 12 p.m. to 5 p.m. (CDT). The auditions will take place at the </span>La Porte Little Theatre\, 218 A Street\, La Porte\, Indiana. &nbsp\; </span><br />\n&nbsp\;&nbsp\;<br />\n<span style="color:#373737\;"><span style="font-family:arial\,sans-serif\;">The Hoosier STAR vocal competition brings together amateur singers throughout the state to compete for recognition and cash prizes. Contestants are divided into two age groups:&nbsp\; youth - 17 years old and under\; and adult - 18 years old and over (at the time of auditions). Ten finalists\, five in each age group\, will advance to the final event and the chance to win monetary prizes along with the title of 2018 Hoosier STAR winner. Duet performers will enter as and be considered one finalist per each duet group.</span></span><br />\n&nbsp\;<br />\n<span style="color:#373737\;"><span style="font-family:arial\,sans-serif\;">The 10 Hoosier STAR finalists will perform along with the La Porte County Symphony Orchestra\, conducted by Philip Bauman on Saturday\, September 8\, 2018 at the La Porte Civic Auditorium. Audience members will choose the final two winners in each age division based on that night&#39\;s performances. First and second place in the Youth Division will receive $500 and $250 respectively. First and second place in the Adult Division will receive $1\,000 and $500 respectively. </span></span><br />\n&nbsp\;<br />\n<span style="color:#373737\;"><span style="font-family:arial\,sans-serif\;">Registration forms can be found at </span></span><span style="font-family:arial\,sans-serif\;">HoosierSTAR.com<span style="color:#373737\;">. Contestants are encouraged to pre-register for a guaranteed time slot. The registration fee for the audition is $20 per person or duet. If a competitor would like to audition as a soloist and a duet\, they must submit two separate audition forms\, including separate fees. Audition applications must be postmarked by March 16th in order to receive a guaranteed time slot. Walk-ins are accepted on a first-come\, first-served basis during the audition dates. </span></span><br />\n&nbsp\;<br />\n<span style="color:#373737\;"><span style="font-family:arial\,sans-serif\;">Hoosier STAR is open to amateur soloists and duets only\; no group performances may enter\, and both competitors in a duet must be from the same age division. For auditions\, applicants may provide their own accompanist\, use a CD with no lead vocals\, supply a digital mp3 capable device\, or sing a cappella. </span></span><br />\n&nbsp\;<br />\n<span style="color:#373737\;"><span style="font-family:arial\,sans-serif\;">&quot\;As a past winner and two-time co-chair of the event in the past\, Hoosier STAR has become a beacon of joy to me personally and I know all of the finalists that are involved each year find it thrilling too! It truly is a once in a lifetime experience to be on that stage singing your heart out with a full symphony behind you\,&quot\; said Nanda Danitschek\, LCSO Executive Director.</span></span><br />\n&nbsp\;<br />\n<span style="color:#373737\;"><span style="font-family:arial\,sans-serif\;">&quot\;It is exciting to be able to help vocalists of all ages experience their dreams and this event provides the opportunity for them to perform for a live audience with the accompaniment of a full orchestra\,&quot\; said Cherri Blair-Drayton\, co-chair of the event. &quot\;The Hoosier STAR event showcases outstanding vocal talent and is one of the hottest tickets for entertainment in the state of Indiana!</span></span><br />\n&nbsp\;<br />\n<span style="color:#373737\;"><span style="font-family:arial\,sans-serif\;">WHAT:&nbsp\; Hoosier STAR is a statewide vocal competition sponsored by Horizon Bank and NIPSCO. All proceeds from the event benefit La Porte County Symphony Orchestra. Auditions\, open to amateur singers of all ages and musical styles\, are held to select 10 finalists who will compete for cash prizes at the September 8\, 2018 event. The finalists perform with the La Porte County Orchestra and winners are determined by audience vote. </span></span><br />\n&nbsp\;<br />\n<span style="color:#373737\;"><span style="font-family:arial\,sans-serif\;">WHO:&nbsp\; A contestant of any age must be an amateur vocalist and must be a resident of the state of Indiana or Southwest Michigan.&nbsp\; </span></span><br />\n&nbsp\;<br />\n<span style="color:#373737\;"><span style="font-family:arial\,sans-serif\;">WHEN:&nbsp\; March 25\, 9:00 a.m. - 5:00 pm &amp\; March 25\, Noon - 5:00 p.m. </span></span><br />\n&nbsp\;<br />\n<span style="color:#373737\;"><span style="font-family:arial\,sans-serif\;">WHERE:&nbsp\; La Porte Little Theatre\, 218 A Street\, La Porte\, Indiana 46350 </span></span><br />\n&nbsp\;<br />\n<span style="color:#373737\;"><span style="font-family:arial\,sans-serif\;">HOW:&nbsp\; Preregister for a time slot with a $20 audition fee\, checks made payable to La Porte County Symphony Orchestra.&nbsp\;<br />\nThe deadline for entry is March 16\, 2018. Entries past this date are accepted\, but requested time slots are not guaranteed.&nbsp\; Walk-ins on the day of auditions will be worked into the schedule.&nbsp\; </span></span><br />\n&nbsp\;<br />\n<span style="color:#373737\;"><span style="font-family:arial\,sans-serif\;">To download an audition or rule form: &nbsp\;</span></span><br />\n<span style="font-family:arial\,sans-serif\;">HoosierStar.com&nbsp\;&nbsp\;&nbsp\;&nbsp\;&nbsp\;&nbsp\;</span><br />\n<span style="color:#373737\;"><span style="font-family:arial\,sans-serif\;">Call (219) 362-9020&nbsp\; &nbsp\;or email <a href="mailto:HoosierSTAR2018@gmail.com">HoosierSTAR2018@gmail.com</a>&nbsp\;</span></span><br />\n<span style="color:#373737\;"><span style="font-family:arial\,sans-serif\;">Applicants will be notified of their assigned audition date and time within a week prior to the auditions.</span></span>
LOCATION:La Porte Little Theatre 218 A Street La Porte
UID:e.1949.3033
SEQUENCE:3
DTSTAMP:20260424T134133Z
URL:https://members.laportepartnership.com/events/details/vocal-auditions-for-hoosier-star-competition-3033
END:VEVENT

END:VCALENDAR
