BEGIN:VCALENDAR
VERSION:2.0
PRODID:-//ChamberMaster//Event Calendar 2.0//EN
METHOD:PUBLISH
X-PUBLISHED-TTL:P3D
REFRESH-INTERVAL:P3D
CALSCALE:GREGORIAN
BEGIN:VEVENT
DTSTART:20171012T150000Z
DTEND:20171012T170000Z
X-MICROSOFT-CDO-ALLDAYEVENT:FALSE
SUMMARY:Volunteer Open House
DESCRIPTION:You Can Make A Difference Learn how at our Open House! Have you ever wondered what volunteering for Center for Hospice Care is like? Come and find out! Talk to current volunteers and hear what they have to say. Ask questions of our volunteer staff. Apply to become a volunteers. Bring a friend! Light refreshments are provided.
X-ALT-DESC;FMTTYPE=text/html:You Can Make A Difference Learn how at our Open House! Have you ever wondered what volunteering for Center for Hospice Care is like? Come and find out! Talk to current volunteers and hear what they have to say. Ask questions of our volunteer staff. Apply to become a volunteers. Bring a friend! Light refreshments are provided.
LOCATION:Center for Hospice Care\, Plymouth 112 S Center St\, Plymouth
UID:e.1949.2877
SEQUENCE:3
DTSTAMP:20260424T230144Z
URL:https://members.laportepartnership.com/events/details/volunteer-open-house-2877
END:VEVENT

END:VCALENDAR
