BEGIN:VCALENDAR
VERSION:2.0
PRODID:-//ChamberMaster//Event Calendar 2.0//EN
METHOD:PUBLISH
X-PUBLISHED-TTL:P3D
REFRESH-INTERVAL:P3D
CALSCALE:GREGORIAN
BEGIN:VEVENT
DTSTART:20180120T150000Z
DTEND:20180120T190000Z
X-MICROSOFT-CDO-ALLDAYEVENT:FALSE
SUMMARY:Volunteer Workday: Forest Restoration
DESCRIPTION:On Saturday\, January 20\, 2018\, Shirley Heinze Land Trust will host a volunteer workday at Meadowbrook Nature Preserve in Valparaiso from 9:00 a.m. to 1:00 p.m. Meadowbrook is currently the site of one of the largest reforestation efforts ever to take place in Northwest Indiana. We will be using bush cutters and loppers to remove undesirable tree and shrub species. All personal protective equipment will be provided\, along with training on the safe use of tools.  Volunteers are requested to RSVP at volunteer@heinzetrust.org (219) 242-8558.\n\n \n\n*IF WEATHER COOPERATES * Volunteers can warm up on this cold winter day by feeding a bonfire with previously cut woody invasive shrubs.  Please wear cotton or wool clothing.  Synthetic fabrics may be damaged by stray embers from the burning brush piles.
X-ALT-DESC;FMTTYPE=text/html:<span style="font-family:candara\,sans-serif"><span style="font-size:12.0pt">On Saturday\, January 20\, 2018\, Shirley Heinze Land Trust will host a volunteer workday at Meadowbrook Nature Preserve in Valparaiso from 9:00 a.m. to 1:00 p.m. Meadowbrook is currently the site of one of the largest reforestation efforts ever to take place in Northwest Indiana. We will be using bush cutters and loppers to remove undesirable tree and shrub species. All personal protective equipment will be provided\, along with training on the safe use of tools.&nbsp\; Volunteers are requested to RSVP at volunteer@heinzetrust.org (219) 242-8558.</span></span><br />\n&nbsp\;<br />\n<span style="font-family:candara\,sans-serif"><span style="font-size:12.0pt">*IF WEATHER COOPERATES * Volunteers can warm up on this cold winter day by feeding a bonfire with previously cut woody invasive shrubs. &nbsp\;Please wear cotton or wool clothing.&nbsp\; Synthetic fabrics may be damaged by stray embers from the burning brush piles.</span></span>
LOCATION:Meadowbrook Nature Preserve 109 W 700 N Valparaiso\, IN 46385
UID:e.1949.2989
SEQUENCE:3
DTSTAMP:20260424T193135Z
URL:https://members.laportepartnership.com/events/details/volunteer-workday-forest-restoration-2989
END:VEVENT

END:VCALENDAR
