BEGIN:VCALENDAR
VERSION:2.0
PRODID:-//ChamberMaster//Event Calendar 2.0//EN
METHOD:PUBLISH
X-PUBLISHED-TTL:P3D
REFRESH-INTERVAL:P3D
CALSCALE:GREGORIAN
BEGIN:VEVENT
DTSTART:20180114T190000Z
DTEND:20180114T220000Z
X-MICROSOFT-CDO-ALLDAYEVENT:FALSE
SUMMARY:Volunteer Workday: Seed Cleaning
DESCRIPTION:Back by popular demand! Shirley Heinze Land Trust is looking for volunteers to help with seed cleaning. With the help of volunteers and staff\, we have collected bags full of native seed from some of our preserves. After cleaning\, this seed will be distributed to restoration areas where invasive species have been removed. The seed will help establish native vegetation\, which in turn will help reduce the invasion by undesirable species. Cleaning the seed will help us to get better coverage and increase germination. Seed cleaning will take place at our Meadowbrook Conservation Center at 109 W 700 North\, Valparaiso\, IN. Seed cleaning can be dusty work and is not recommended for people with breathing problems. Please come out and join our staff and other like-minded volunteers to prepare this native seed for distributing this winter. Please RSVP to our Volunteer Coordinator Katy Botbyl at volunteer@heinzetrust.org or by calling our office at (219) 242-8558. We appreciate your consideration and look forward to working with you.
X-ALT-DESC;FMTTYPE=text/html:<span style="font-family:candara\,sans-serif"><span style="font-size:12.0pt">Back by popular demand! Shirley Heinze Land Trust is looking for volunteers to help with seed cleaning. With the help of volunteers and staff\, we have collected bags full of native seed from some of our preserves. After cleaning\, this seed will be distributed to restoration areas where invasive species have been removed. The seed will help establish native vegetation\, which in turn will help reduce the invasion by undesirable species. Cleaning the seed will help us to get better coverage and increase germination. Seed cleaning will take place at our Meadowbrook Conservation Center at 109 W 700 North\, Valparaiso\, IN. Seed cleaning can be dusty work and is not recommended for people with breathing problems. Please come out and join our staff and other like-minded volunteers to prepare this native seed for distributing this winter. Please RSVP to our Volunteer Coordinator Katy Botbyl at volunteer@heinzetrust.org or by calling our office at (219) 242-8558. We appreciate your consideration and look forward to working with you.</span></span>
LOCATION:Meadowbrook Nature Preserve 109 W 700 N Valparaiso\, IN 46385
UID:e.1949.2988
SEQUENCE:3
DTSTAMP:20260424T173154Z
URL:https://members.laportepartnership.com/events/details/volunteer-workday-seed-cleaning-2988
END:VEVENT

END:VCALENDAR
