BEGIN:VCALENDAR
VERSION:2.0
PRODID:-//ChamberMaster//Event Calendar 2.0//EN
METHOD:PUBLISH
X-PUBLISHED-TTL:P3D
REFRESH-INTERVAL:P3D
CALSCALE:GREGORIAN
BEGIN:VEVENT
DTSTART:20190330T150000Z
DTEND:20190330T190000Z
X-MICROSOFT-CDO-ALLDAYEVENT:FALSE
SUMMARY:Wake Up the Gardens!
DESCRIPTION:Volunteers are needed to get the gardens and grounds ready for opening day! All help is welcome! Bring your own rake and gloves if possible.
X-ALT-DESC;FMTTYPE=text/html:<p><span style="background-color:transparent\; color:rgb(0\, 0\, 0)\; font-family:times new roman\; font-size:12pt">Volunteers are needed to get the gardens and grounds ready for opening day! All help is welcome! Bring your own rake and gloves if possible.</span></p>\n
LOCATION:Friendship Botanic Gardens 2055 East US Highway 12 Michigan City\, IN 46360
UID:e.1949.4314
SEQUENCE:3
DTSTAMP:20260423T183759Z
URL:https://members.laportepartnership.com/events/details/wake-up-the-gardens-4314
END:VEVENT

END:VCALENDAR
