BEGIN:VCALENDAR
VERSION:2.0
PRODID:-//ChamberMaster//Event Calendar 2.0//EN
METHOD:PUBLISH
X-PUBLISHED-TTL:P3D
REFRESH-INTERVAL:P3D
CALSCALE:GREGORIAN
BEGIN:VEVENT
DTSTART:20180428T230000Z
DTEND:20180429T030000Z
X-MICROSOFT-CDO-ALLDAYEVENT:FALSE
SUMMARY:Washington Park Zoo- Zoobilee 2018
DESCRIPTION:Washington Park Zoo is celebrating 90 years with Zoobilee 2018! Join us for an all inclusive 90th Anniversary Celebration! There is a $50 donation/person or a $90 donation/couple for this 21 and older event. The event will take place on April 28 from 6:00 p.m.-10:00 p.m. at the Uptown Artist Lofts\, 717 Franklin Street in Michigan City.\n\nEvent highlights include: animal gallery art show in partnership with the Michigan City School Corporation and Artspace Uptown Artist Lofts\; bid on some great items in our auctions\; food & beverages supplied by our event sponsors\; LIVE entertainment. Ticketed donations available through Eventbrite: https://www.eventbrite.com/e/zoobilee-2018-tickets-42334969032
X-ALT-DESC;FMTTYPE=text/html:Washington Park Zoo is celebrating 90 years with Zoobilee 2018! Join us for an all inclusive 90th Anniversary Celebration! There is a $50 donation/person or a $90 donation/couple for this 21 and older event. The event will take place on April 28 from 6:00 p.m.-10:00 p.m. at the Uptown Artist Lofts\, 717 Franklin Street in Michigan City.<br />\nEvent highlights include: animal gallery art show in partnership with the Michigan City School Corporation and Artspace Uptown Artist Lofts\; bid on some great items in our auctions\; food &amp\; beverages supplied by our event sponsors\; LIVE entertainment. Ticketed donations available through Eventbrite: https://www.eventbrite.com/e/zoobilee-2018-tickets-42334969032
LOCATION:Uptown Artist Lofts 717 Franklin Street Michigan City
UID:e.1949.4114
SEQUENCE:3
DTSTAMP:20260424T134150Z
URL:https://members.laportepartnership.com/events/details/washington-park-zoo-zoobilee-2018-4114
END:VEVENT

END:VCALENDAR
