BEGIN:VCALENDAR
VERSION:2.0
PRODID:-//ChamberMaster//Event Calendar 2.0//EN
METHOD:PUBLISH
X-PUBLISHED-TTL:P3D
REFRESH-INTERVAL:P3D
CALSCALE:GREGORIAN
BEGIN:VEVENT
DTSTART:20170422T230000Z
DTEND:20170423T030000Z
X-MICROSOFT-CDO-ALLDAYEVENT:FALSE
SUMMARY:Washington Park Zoological Society Presents: Flight Night Zoobilee
DESCRIPTION:Join us on Saturday April 22nd from 6:00pm to 10:00pm for a fantastic trip around the world!! Located at the Michigan City Airport the Zoo Society will be hosting our annual fundraiser Zoobilee "Flight Night" at this event there will be food and drink stations from all over the world along with some games and fun for everyone. It is sure to be a fun night with entertainment and excitement. So grab your sense of adventure and come join us for the evening. Check out our Facebook page for more info as we go.
X-ALT-DESC;FMTTYPE=text/html:<span style="color: rgb(0\, 0\, 0)\; font-family: sourcesanspro\, Helvetica\, Tahoma\, Geneva\, Arial\, sans-serif\; font-size: 16px\;">Join us on Saturday April 22nd from 6:00pm to 10:00pm for a fantastic trip around the world!! Located at the Michigan City Airport the Zoo Society will be hosting our annual fundraiser&nbsp\;</span><strong style="box-sizing: inherit\; color: rgb(0\, 0\, 0)\; font-family: sourcesanspro\, Helvetica\, Tahoma\, Geneva\, Arial\, sans-serif\; font-size: 16px\;">Zoobilee &quot\;Flight Night&quot\;</strong><span style="color: rgb(0\, 0\, 0)\; font-family: sourcesanspro\, Helvetica\, Tahoma\, Geneva\, Arial\, sans-serif\; font-size: 16px\;">&nbsp\;at this event there will be food and drink stations from all over the world along with some games and fun for everyone. It is sure to be a fun night with entertainment and excitement. So grab your sense of adventure and come join us for the evening. Check out our Facebook page for more info as we go.&nbsp\;</span>
LOCATION:Michigan City Airport 1300 Indiana 212 N Michigan City
UID:e.1949.2726
SEQUENCE:3
DTSTAMP:20260425T114916Z
URL:https://members.laportepartnership.com/events/details/washington-park-zoological-society-presents-flight-night-zoobilee-2726
END:VEVENT

END:VCALENDAR
