BEGIN:VCALENDAR
VERSION:2.0
PRODID:-//ChamberMaster//Event Calendar 2.0//EN
METHOD:PUBLISH
X-PUBLISHED-TTL:P3D
REFRESH-INTERVAL:P3D
CALSCALE:GREGORIAN
BEGIN:VEVENT
DTSTART:20170325T140000Z
DTEND:20170325T170000Z
X-MICROSOFT-CDO-ALLDAYEVENT:FALSE
SUMMARY:'We've Already Moved' TAG SALE- Friends of the La Porte County Public Library
DESCRIPTION:The Friends of the La Porte County Public Library are holding a 'We've Already Moved' TAG SALE on Saturday\, March 25 from 9am to 12pm at 1020 Lincolnway (the old Main Temp) next to Roxy Music. Bring your truck and haul away the huge savings on used office furniture\, fixtures\, and miscellaneous supplies! Everything is priced to sell and must go! Come early for the best selection!
X-ALT-DESC;FMTTYPE=text/html:<span style="font-family:arial\,sans-serif\;">The Friends of the La Porte County Public Library are holding a &#39\;We&#39\;ve Already Moved&#39\; TAG SALE on Saturday\, March 25 from 9am to 12pm at 1020 Lincolnway (the old Main Temp) next to Roxy Music. Bring your truck and haul away the huge savings on used office furniture\, fixtures\, and miscellaneous supplies! Everything is priced to sell and must go! Come early for the best selection!</span>
LOCATION:Old Main Temp Location 1020 Lincolnway\, La Porte
UID:e.1949.2758
SEQUENCE:3
DTSTAMP:20260425T115132Z
URL:https://members.laportepartnership.com/events/details/we-ve-already-moved-tag-sale-friends-of-the-la-porte-county-public-library-2758
END:VEVENT

END:VCALENDAR
