BEGIN:VCALENDAR
VERSION:2.0
PRODID:-//ChamberMaster//Event Calendar 2.0//EN
METHOD:PUBLISH
X-PUBLISHED-TTL:P3D
REFRESH-INTERVAL:P3D
CALSCALE:GREGORIAN
BEGIN:VEVENT
DTSTART:20180904T163000Z
DTEND:20180904T181500Z
X-MICROSOFT-CDO-ALLDAYEVENT:FALSE
SUMMARY:“What All Supervisors Should Know”- 12-Week Training First Day
DESCRIPTION:"What All Supervisors Should Know" is a 12-week training series focused on positive employee relations and related laws. Stanford's Graduate School of Business' five-year study revealed a 13% increase in productivity when replacing a poor manager with a good manager.\n\nTwo series are offered this fall: The LaPorte Series is held every other Tuesday at The Blue Heron from 8:00 to 9:45 am and the Michigan City Series is every other Wednesday at Patrick's Grille from 11:30 to 1:15 pm. The series run from September 4th\, through November 14th\, 2018 and is approved for 12 LEUs. Effective\, interactive supervisory training reduces the likelihood that wrongful conduct will take place\, improves performance and provides a critical legal defense.  Tuition is $500 per person for the series. Invest in your supervisors who have the greatest impact on your most flexible asset. Contact Nora T. Akins\, Strategic Management www.managepeopleright.com for details and registration\; 219-873-1735 or nora@managepeopleright.com.
X-ALT-DESC;FMTTYPE=text/html:&ldquo\;What All Supervisors Should Know&rdquo\; is a 12-week training series focused on positive employee relations and related laws. Stanford&rsquo\;s Graduate School of Business&rsquo\; five-year study revealed a 13% increase in productivity when replacing a poor manager with a good manager.<br />\nTwo series are offered this fall: The LaPorte Series is held every other Tuesday at The Blue Heron from 8:00 to 9:45 am and the Michigan City Series is every other Wednesday at Patrick&rsquo\;s Grille from 11:30 to 1:15 pm. The series run from September 4<sup>th</sup>\, through November 14<sup>th</sup>\, 2018 and is approved for 12 LEUs. Effective\, interactive supervisory training reduces the likelihood that wrongful conduct will take place\, improves performance and provides a critical legal defense.&nbsp\; Tuition is $500 per person for the series. Invest in your supervisors who have the greatest impact on your most flexible asset. Contact Nora T. Akins\, Strategic Management <a href="http://www.managepeopleright.com/">www.managepeopleright.com</a> for details and registration\; 219-873-1735 or <a href="mailto:nora@managepeopleright.com">nora@managepeopleright.com</a>.
LOCATION:La Porte Classes: The Blue Heron\, 1110 Lakeside\, La Porte Michigan City City Classes: Patrick's Grille\, 4125 Franklin Street\, Michigan City
UID:e.1949.4216
SEQUENCE:3
DTSTAMP:20260424T041649Z
URL:https://members.laportepartnership.com/events/details/what-all-supervisors-should-know-12-week-training-first-day-4216
END:VEVENT

END:VCALENDAR
