BEGIN:VCALENDAR
VERSION:2.0
PRODID:-//ChamberMaster//Event Calendar 2.0//EN
METHOD:PUBLISH
X-PUBLISHED-TTL:P3D
REFRESH-INTERVAL:P3D
CALSCALE:GREGORIAN
BEGIN:VEVENT
DTSTART:20170110T140000Z
DTEND:20170110T154500Z
X-MICROSOFT-CDO-ALLDAYEVENT:FALSE
SUMMARY:"What All Supervisors Should Know" Training Course- 1st Day
DESCRIPTION:"What All Supervisors Should Know" is a 12-week training series focused on positive employee relations and related laws. Classes are held every other week at the Blue Chip Casino's Executive Boardroom from 8:00 to 9:45 am with on-the-job assignments during alternate weeks. The series runs from January 10\, through March 21\, 2017 and is approved for 12 LEUs. Effective\, interactive supervisory training reduces the likelihood that wrongful conduct will take place and provides a critical legal defense in key legal risk areas.  Tuition is $500 per person for the series. Invest in your supervisors who have the greatest impact on your most flexible asset. Contact Nora T. Akins\, Strategic Management for details and registration\; 219-873-1735 or nora@managepeopleright.com.
X-ALT-DESC;FMTTYPE=text/html:&ldquo\;What All Supervisors Should Know&rdquo\; is a 12-week training series focused on positive employee relations and related laws. Classes are held every other week at the Blue Chip Casino&rsquo\;s Executive Boardroom from 8:00 to 9:45 am with on-the-job assignments during alternate weeks. The series runs from January 10\, through March 21\, 2017 and is approved for 12 LEUs. Effective\, interactive supervisory training reduces the likelihood that wrongful conduct will take place and provides a critical legal defense in key legal risk areas.&nbsp\; Tuition is $500 per person for the series. Invest in your supervisors who have the greatest impact on your most flexible asset. Contact Nora T. Akins\, Strategic Management for details and registration\; 219-873-1735 or <a href="mailto:nora@managepeopleright.com">nora@managepeopleright.com</a>.&nbsp\;
LOCATION:Blue Chip Casino\, Executive Boardroom 777 Blue Chip Drive Michigan City
UID:e.1949.2673
SEQUENCE:3
DTSTAMP:20260425T152816Z
URL:https://members.laportepartnership.com/events/details/what-all-supervisors-should-know-training-course-1st-day-2673
END:VEVENT

END:VCALENDAR
