BEGIN:VCALENDAR
VERSION:2.0
PRODID:-//ChamberMaster//Event Calendar 2.0//EN
METHOD:PUBLISH
X-PUBLISHED-TTL:P3D
REFRESH-INTERVAL:P3D
CALSCALE:GREGORIAN
BEGIN:VEVENT
DTSTART:20180109T140000Z
DTEND:20180109T191500Z
X-MICROSOFT-CDO-ALLDAYEVENT:FALSE
SUMMARY:"What All Supervisors Should Know" Training Course- First Day
DESCRIPTION:"What All Supervisors Should Know" is a 12-week training series focused on positive employee relations and related laws. Classes are held every other Tuesday at the Lubeznik Center for the Arts in Michigan City from 8:00 to 9:45 am and at the Best Western in La Porte from 11:30 to 1:15 pm with on-the-job assignments during alternate weeks. The series runs from January 9\, through March 20\, 2018 and is approved for 12 LEUs. Effective\, interactive supervisory training reduces the likelihood that wrongful conduct will take place\, improves performance and provides a critical legal defense.  Tuition is $500 per person for the series. Invest in your supervisors who have the greatest impact on your most flexible asset. Contact Nora T. Akins\, Strategic Management for details and registration\; 219-873-1735 or nora@managepeopleright.com.
X-ALT-DESC;FMTTYPE=text/html:&ldquo\;What All Supervisors Should Know&rdquo\; is a 12-week training series focused on positive employee relations and related laws. Classes are held every other Tuesday at the Lubeznik Center for the Arts in Michigan City from 8:00 to 9:45 am and at the Best Western in La Porte from 11:30 to 1:15 pm with on-the-job assignments during alternate weeks. The series runs from January 9\, through March 20\, 2018 and is approved for 12 LEUs. Effective\, interactive supervisory training reduces the likelihood that wrongful conduct will take place\, improves performance and provides a critical legal defense.&nbsp\; Tuition is $500 per person for the series. Invest in your supervisors who have the greatest impact on your most flexible asset. Contact Nora T. Akins\, Strategic Management for details and registration\; 219-873-1735 or <a href="mailto:nora@managepeopleright.com">nora@managepeopleright.com</a>.&nbsp\;
LOCATION:Lubeznik Center for the Arts 101 W. 2nd St. Michigan City OR Best Western Plus 444 Pine Lake Avenue La Porte
UID:e.1949.2956
SEQUENCE:3
DTSTAMP:20260424T173930Z
URL:https://members.laportepartnership.com/events/details/what-all-supervisors-should-know-training-course-first-day-2956
END:VEVENT

END:VCALENDAR
