BEGIN:VCALENDAR
VERSION:2.0
PRODID:-//ChamberMaster//Event Calendar 2.0//EN
METHOD:PUBLISH
X-PUBLISHED-TTL:P3D
REFRESH-INTERVAL:P3D
CALSCALE:GREGORIAN
BEGIN:VEVENT
DTSTART:20190825T190000Z
DTEND:20190825T220000Z
X-MICROSOFT-CDO-ALLDAYEVENT:FALSE
SUMMARY:What is Anam Cara? - Demonstration Event
DESCRIPTION:What is this Anam Cara thing in LaPorte you've been hearing about? Horses & Counseling?!? Horse-Powered Reading? Herd Meditations? What?!? Come experience for yourself the transformative & healing power of the presence of horses!! This event is FREE/Donation based!! We will be sharing the EAGALA model and what it\, and Anam Cara \,offers you and the community. Did you know that Anam Cara is the ONLY Eagala certified program in Northwest Indiana? You can RSVP with at 219-207-7222 or by clicking below. This interactive presentation is best suited for ages 16 and older. Bring water\, a chair\, and come dressed for the weather and the pasture (close toed shoes) \;-) For a preview of what he Eagala model is: https://youtu.be/Drm_vK5deFs
X-ALT-DESC;FMTTYPE=text/html:What is this Anam Cara thing in LaPorte you&#39\;ve been hearing about? Horses &amp\; Counseling?!? Horse-Powered Reading? Herd Meditations? What?!? Come experience for yourself the transformative &amp\; healing power of the presence of horses!! This event is FREE/Donation based!! We will be sharing the EAGALA model and what it\, and Anam Cara \,offers you and the community. Did you know that Anam Cara is the ONLY Eagala certified program in Northwest Indiana? You can RSVP with at 219-207-7222 or by clicking below. This interactive presentation is best suited for ages 16 and older. Bring water\, a chair\, and come dressed for the weather and the pasture (close toed shoes) \;-) For a preview of what he Eagala model is: https://youtu.be/Drm_vK5deFs
LOCATION:4298 E 1000 North LaPorte\, IN 46350
UID:e.1949.4381
SEQUENCE:3
DTSTAMP:20260423T095437Z
URL:https://members.laportepartnership.com/events/details/what-is-anam-cara-demonstration-event-4381
END:VEVENT

END:VCALENDAR
