BEGIN:VCALENDAR
VERSION:2.0
PRODID:-//ChamberMaster//Event Calendar 2.0//EN
METHOD:PUBLISH
X-PUBLISHED-TTL:P3D
REFRESH-INTERVAL:P3D
CALSCALE:GREGORIAN
BEGIN:VEVENT
DTSTART:20160726T160000Z
DTEND:20160727T040000Z
X-MICROSOFT-CDO-ALLDAYEVENT:FALSE
SUMMARY:Wings Etc. Giveback- Leadership La Porte County
DESCRIPTION:When\n\n			11:00 AM - 11:00PM\n\n			July 26\, 2016\n\n			Where\n\n			Wings Etc.\n\n			1115 E Lincolnway\n\n			La Porte\, IN 46350\n		\n	\n\n\n \n \n\n\n	\n		\n			Summer is here and it's too hot to cook. Take the family out to dinner\, meet some friends here\, or order carryout for home or office.  Your meal will support Leadership La Porte County's youth programming!\n\n			\n\n			Please print and bring the coupon on the bottom of the event flier. Click here for a downloadable file:  Wings Etc. flyer\n\n			\n\n			Thank you for your support! See you there.
X-ALT-DESC;FMTTYPE=text/html:<table align="center" border="0" cellpadding="0" cellspacing="0" style="width:100.0%\;" width="100%">\n	<tbody>\n		<tr>\n			<td style="padding:6.0pt 0in 6.0pt 0in\;vertical-align:top\;"><strong><span style="color:#DF9012\;"><span style="font-family:arial\,sans-serif\;"><span style="font-size:10.0pt\;">When</span></span></span></strong><br />\n			<span style="color:#8D0D30\;"><span style="font-family:arial\,sans-serif\;"><span style="font-size:10.0pt\;">11:00 AM - 11:00PM<br />\n			July 26\, 2016</span></span></span><br />\n			<strong><span style="color:#DF9012\;"><span style="font-family:arial\,sans-serif\;"><span style="font-size:10.0pt\;">Where</span></span></span></strong><br />\n			<span style="color:#8D0D30\;"><span style="font-family:arial\,sans-serif\;"><span style="font-size:10.0pt\;">Wings Etc.<br />\n			1115 E Lincolnway<br />\n			La Porte\, IN 46350</span></span></span></td>\n		</tr>\n	</tbody>\n</table>\n\n<div style="clear:both\;">&nbsp\;</div>\n&nbsp\;\n\n<table align="center" border="0" cellpadding="0" cellspacing="0" id="content_LETTER.BLOCK8" style="width:100.0%\;" width="100%">\n	<tbody>\n		<tr>\n			<td style="padding:6.0pt 0in 6.0pt 0in\;vertical-align:top\;"><span style="color:#8D0D30\;"><span style="font-family:arial\,sans-serif\;"><span style="font-size:10.0pt\;">Summer is here and it&#39\;s too hot to cook. Take the family out to dinner\, meet some friends here\, or order carryout for home or office.&nbsp\; Your meal will support Leadership La Porte County&#39\;s youth programming!<br />\n			<br />\n			Please print and bring the coupon on the bottom of the event flier. Click here for a downloadable file:&nbsp\; <a href="http://r20.rs6.net/tn.jsp?f=001jsoBoFkXSIdXUkFULMxTULmoCTEt7jTqA6j0cdXjm7Pvghnt97NlBx009SrQMWmS2EsDnG6fK91DKmr8FMKHer9eOYAW2yqWLSXS38macoG-xVlj36Qfx6GmmpTKsKyo4iaOMWO6r96DnLORn8awVjdRdvAdZpCTYVYHDf-FIPeyS25Ox0H5pskPZ1UvM8OOa0vYn2lt02c73W3KnDpAWmTtFQKkJkgR7h3hFFZLUV9ngXGjGSgmaw==&amp\;c=3NUDxXmD1BQdSEdl960fHAeS1OCY-_HxAlas9rIy0tkpLDTorVYrHg==&amp\;ch=EUaDZYhjWKRLDlx69UzSJ3JP5aoAuAfg64PBQGNoKPCwt4KSWK-NRw==" target="_blank">Wings Etc. flyer</a><br />\n			<br />\n			Thank you for your support! See you there.</span></span></span></td>\n		</tr>\n	</tbody>\n</table>\n\n<div style="clear:both\;">&nbsp\;</div>\n
LOCATION:Wings Etc. 1115 E. Lincolnway La Porte
UID:e.1949.2602
SEQUENCE:3
DTSTAMP:20260426T034051Z
URL:https://members.laportepartnership.com/events/details/wings-etc-giveback-leadership-la-porte-county-07-26-2016-2602
END:VEVENT

END:VCALENDAR
