BEGIN:VCALENDAR
VERSION:2.0
PRODID:-//ChamberMaster//Event Calendar 2.0//EN
METHOD:PUBLISH
X-PUBLISHED-TTL:P3D
REFRESH-INTERVAL:P3D
CALSCALE:GREGORIAN
BEGIN:VEVENT
DTSTART:20180629T223000Z
DTEND:20180630T010000Z
X-MICROSOFT-CDO-ALLDAYEVENT:FALSE
SUMMARY:Wings & Wedges Par 3 Tournament at Briar Leaf
DESCRIPTION:Wings & Wedges\n\nPar 3 Tournament\n\nat Briar Leaf\n\n \n\n                     Friday\, June 29th       5:30 pm Shotgun Start\n\n                                \n\n \n\n    \n\n \n\nJoin us for this unique & fun event!\n\n \n\nAt our 9-Hole Wings & Wedges Tournament all of the holes will be transformed into short Par 3's (the wedges)\, and after the round we'll gather at the Grill House behind #9 green for an all you can eat buffet (the wings).\n\n \n\nThere will be prizes for low scores & closest to the pin on EVERY hole!\n\nPlus!!! Anyone who makes an ACE will win $50.00 in Cash!!!\n\n \n\nThe entry fee of $30.00 per person   CASH ONLY - includes golf\, cart\, prizes & WINGS!\n\nCash Bar & Beverage Cart will be available.\n\nIt's a perfect way to kick off the weekend...\n\nWings & Wedges!\n\nCall Briar Leaf at 219-326-1992 to register.                briarleaf.com
X-ALT-DESC;FMTTYPE=text/html:<strong><em><span style="color:#FF3300\;"><span style="font-size:36.0pt\;">Wings &amp\; Wedges</span></span></em></strong><br />\n<strong><em><span style="color:#FF3300\;"><span style="font-size:36.0pt\;">Par 3 Tournament</span></span></em></strong><br />\n<strong><em><span style="color:#FF3300\;"><span style="font-size:36.0pt\;">at Briar Leaf</span></span></em></strong><br />\n&nbsp\;<br />\n&nbsp\;&nbsp\;&nbsp\;&nbsp\;&nbsp\;&nbsp\;&nbsp\;&nbsp\;&nbsp\;&nbsp\;&nbsp\;&nbsp\;&nbsp\;&nbsp\;&nbsp\;&nbsp\;&nbsp\;&nbsp\;&nbsp\;&nbsp\; <span style="font-size:22.0pt\;">Friday\, June 29th&nbsp\;&nbsp\;&nbsp\;&nbsp\;&nbsp\;&nbsp\; 5:30 pm Shotgun Start</span><br />\n&nbsp\;&nbsp\;&nbsp\;&nbsp\;&nbsp\;&nbsp\;&nbsp\;&nbsp\;&nbsp\;&nbsp\;&nbsp\;&nbsp\;&nbsp\;&nbsp\;&nbsp\;&nbsp\;&nbsp\;&nbsp\;&nbsp\;&nbsp\;&nbsp\;&nbsp\;&nbsp\;&nbsp\;&nbsp\;&nbsp\;&nbsp\;&nbsp\;&nbsp\;&nbsp\;&nbsp\;&nbsp\;<br />\n&nbsp\;<br />\n&nbsp\;&nbsp\; &shy\;<br />\n&nbsp\;<br />\n<span style="font-size:14.0pt\;">Join us for this unique &amp\; fun event!</span><br />\n&nbsp\;<br />\n<span style="font-size:14.0pt\;">At our 9-Hole Wings &amp\; Wedges Tournament all of the holes will be transformed into short Par 3&#39\;s (the wedges)\, and after the round we&#39\;ll gather at the Grill House behind #9 green for an all you can eat buffet (the wings).</span><br />\n&nbsp\;<br />\n<span style="font-size:14.0pt\;">There will be prizes for low scores &amp\; closest to the pin on EVERY hole!</span><br />\n<strong><em><span style="color:#FF3300\;"><span style="font-size:14.0pt\;">Plus!!! Anyone who makes an ACE will win $50.00 in Cash!!!</span></span></em></strong><br />\n&nbsp\;<br />\n<span style="font-size:14.0pt\;">The entry fee of $30.00 per person &ndash\; CASH ONLY - includes golf\, cart\, prizes &amp\; WINGS!</span><br />\n<span style="font-size:14.0pt\;">Cash Bar &amp\; Beverage Cart will be available.</span><br />\n<span style="font-size:14.0pt\;">It&#39\;s a perfect way to kick off the weekend...</span><br />\n<span style="font-size:14.0pt\;">Wings &amp\; Wedges!</span><br />\n<span style="font-size:14.0pt\;">Call Briar Leaf at 219-326-1992 to register.&nbsp\;&nbsp\;&nbsp\;&nbsp\;&nbsp\;&nbsp\;&nbsp\;&nbsp\;&nbsp\;&nbsp\;&nbsp\;&nbsp\;&nbsp\;&nbsp\;&nbsp\; briarleaf.com</span>
LOCATION:Briar Leaf Golf Club 3233 N. State Road 39 La Porte
UID:e.1949.4192
SEQUENCE:3
DTSTAMP:20260424T102932Z
URL:https://members.laportepartnership.com/events/details/wings-wedges-par-3-tournament-at-briar-leaf-4192
END:VEVENT

END:VCALENDAR
