BEGIN:VCALENDAR
VERSION:2.0
PRODID:-//ChamberMaster//Event Calendar 2.0//EN
METHOD:PUBLISH
X-PUBLISHED-TTL:P3D
REFRESH-INTERVAL:P3D
CALSCALE:GREGORIAN
BEGIN:VEVENT
DTSTART:20161130T230000Z
DTEND:20161201T013000Z
X-MICROSOFT-CDO-ALLDAYEVENT:FALSE
SUMMARY:Winter Glo & Legislative Idea and Information Exchange
DESCRIPTION:Please join us on  Wednesday\, November 30\, 2016 for Visit Michigan City LaPorte's 16th Annual Winter Glo and this year we are going to combine it with our annual legislative Idea & Information Exchange\, and hold everything on the same day.  Blue Chip has graciously offered to host the event. They will serve a sumptuous array of hors'd oevures and provide a host bar.\n\nWe really hope you can attend to network and just enjoy yourself. The time is 5-7:30 pm CST. \n\nI know everyone always really liked our traditional Winter Glo that featured our local restaurants\, however we are working on plans to do something like that about every quarter in 2017.\n\nLet me know if you can join us.\n\nKindly RSVP to Jane Daley before Nov. 21st\n\nPhone: 219-872-5055\, or email: jane@michigancitylaporte.com
X-ALT-DESC;FMTTYPE=text/html:<span style="color:#0067CE\;"><span style="font-family:arial\,sans-serif\;"><span style="font-size:10.0pt\;">Please join us on &nbsp\;Wednesday\, November 30\, 2016 for Visit Michigan City LaPorte&#39\;s 16th Annual Winter Glo and this year we are going to combine it with our annual legislative Idea &amp\; Information Exchange\, and hold everything on the same day.&nbsp\; Blue Chip has graciously offered to host the event. They will serve a sumptuous array of hors&#39\;d oevures and provide a host bar.</span></span></span><br />\n<span style="color:#0067CE\;"><span style="font-family:arial\,sans-serif\;"><span style="font-size:10.0pt\;">We really hope you can attend to network and just enjoy yourself. The time is 5-7:30 pm CST.&nbsp\;</span></span></span><br />\n<span style="color:#0067CE\;"><span style="font-family:arial\,sans-serif\;"><span style="font-size:10.0pt\;">I know everyone always really liked our traditional Winter Glo that featured our local restaurants\, however we are working on plans to do something like that about every quarter in 2017.</span></span></span><br />\n<span style="color:#0067CE\;"><span style="font-family:arial\,sans-serif\;"><span style="font-size:10.0pt\;">Let me know if you can join us.</span></span></span><br />\n<span style="color:#0067CE\;"><span style="font-family:arial\,sans-serif\;"><span style="font-size:10.0pt\;">Kindly RSVP to Jane Daley before Nov. 21st</span></span></span><br />\n<span style="color:#0067CE\;"><span style="font-family:arial\,sans-serif\;"><span style="font-size:10.0pt\;">Phone: 219-872-5055\, or email: <a href="mailto:jane@michigancitylaporte.com">jane@michigancitylaporte.com</a></span></span></span>
LOCATION:Blue Chip Casino 777 Blue Chip Drive Michigan City
UID:e.1949.2674
SEQUENCE:3
DTSTAMP:20260425T185555Z
URL:https://members.laportepartnership.com/events/details/winter-glo-legislative-idea-and-information-exchange-2674
END:VEVENT

END:VCALENDAR
