BEGIN:VCALENDAR
VERSION:2.0
PRODID:-//ChamberMaster//Event Calendar 2.0//EN
METHOD:PUBLISH
X-PUBLISHED-TTL:P3D
REFRESH-INTERVAL:P3D
CALSCALE:GREGORIAN
BEGIN:VEVENT
DTSTART:20171202T160000Z
DTEND:20171202T200000Z
X-MICROSOFT-CDO-ALLDAYEVENT:FALSE
SUMMARY:Winter Market in Plaza 618 & Santa in his Chalet
DESCRIPTION:Join the La Porte Farmers Market for their first ever Winter Market this weekend\, December 2nd from 10 a.m.-2 p.m. The Winter Market will be just across the street from the regular market location in Plaza 618\, 618 Lincolnway in Downtown La Porte. Select vendors will offer great Christmas ideas as well as fresh foods! Santa will also be there for visits with children in his chalet.
X-ALT-DESC;FMTTYPE=text/html:<span style="color: rgb(69\, 69\, 69)\; font-family: Arial\, Helvetica\, sans-serif\; font-size: 13.3333px\;">Join the La Porte Farmers Market for their first ever Winter Market this weekend\, December 2nd from 10 a.m.-2 p.m. The Winter Market will be just across the street from the regular market location in Plaza 618\, 618 Lincolnway in Downtown La Porte. Select vendors will offer great Christmas ideas as well as fresh foods! Santa will also be there for visits with children in his chalet.</span>
LOCATION:Plaza 618 618 Lincolnway
UID:e.1949.2963
SEQUENCE:3
DTSTAMP:20260424T193858Z
URL:https://members.laportepartnership.com/events/details/winter-market-in-plaza-618-santa-in-his-chalet-2963
END:VEVENT

END:VCALENDAR
