BEGIN:VCALENDAR
VERSION:2.0
PRODID:-//ChamberMaster//Event Calendar 2.0//EN
METHOD:PUBLISH
X-PUBLISHED-TTL:P3D
REFRESH-INTERVAL:P3D
CALSCALE:GREGORIAN
BEGIN:VEVENT
DTSTART:20171206T220000Z
DTEND:20171207T000000Z
X-MICROSOFT-CDO-ALLDAYEVENT:FALSE
SUMMARY:Winter WelnessLand at The Crossing
DESCRIPTION:Winter WellnessLand will appear again for one night only at The Crossing in La Porte\, with a special visit from Santa and lots family-friendly activities.\n\n \n\nThe event takes place from 4-6 p.m.\, Dec. 6 at The Crossing of La Porte Hospital\, 1203 Washington St.\, La Porte. It is free and open to the public.\n\n \n\nPictures with Santa will be offered with a suggested donation of one non-perishable food item that will be donated to local food panties. Professional photos will be taken by LaPorteCountyLife.com\, and prints will be mailed to families after the event. Of course\, all are welcome to take their own photos as well.\n\n \n\nOther activities include hot cocoa and cookies\, holiday crafts\, cookie decorating\, holiday games\, a Winter Wellness Indoor Scavenger Hunt\, and more!\n\n \n\nFor more information\, call 219-326-2048. For updated information\, follow La Porte Hospital on Facebook @LPHospital.\n\n \n\n####\n\n \n\nThe mission of La Porte Hospital is to improve the health of our patients and communities.
X-ALT-DESC;FMTTYPE=text/html:<strong><span style="font-family:calibri\,sans-serif\;"><span style="font-size:11.0pt\;">&ndash\;</span></span></strong><span style="font-family:calibri\,sans-serif\;"><span style="font-size:11.0pt\;"> Winter WellnessLand will appear again for one night only at The Crossing in La Porte\, with a special visit from Santa and lots family-friendly activities.</span></span><br />\n&nbsp\;<br />\n<span style="font-family:calibri\,sans-serif\;"><span style="font-size:11.0pt\;">The event takes place from 4-6 p.m.\, Dec. 6 at The Crossing of La Porte Hospital\, 1203 Washington St.\, La Porte. It is free and open to the public.</span></span><br />\n&nbsp\;<br />\n<span style="font-family:calibri\,sans-serif\;"><span style="font-size:11.0pt\;">Pictures with Santa will be offered with a suggested donation of one non-perishable food item that will be donated to local food panties. Professional photos will be taken by <a href="http://LaPorteCountyLife.com">LaPorteCountyLife.com</a>\, and prints will be mailed to families after the event. Of course\, all are welcome to take their own photos as well.</span></span><br />\n&nbsp\;<br />\n<span style="font-family:calibri\,sans-serif\;"><span style="font-size:11.0pt\;">Other activities include hot cocoa and cookies\, holiday crafts\, cookie decorating\, holiday games\, a Winter Wellness Indoor Scavenger Hunt\, and more!</span></span><br />\n&nbsp\;<br />\n<span style="font-family:calibri\,sans-serif\;"><span style="font-size:11.0pt\;">For more information\, call 219-326-2048. For updated information\, follow La Porte Hospital on Facebook @LPHospital.</span></span><br />\n&nbsp\;<br />\n<span style="font-family:calibri\,sans-serif\;"><span style="font-size:11.0pt\;">####</span></span><br />\n&nbsp\;<br />\n<span style="font-family:calibri\,sans-serif\;"><span style="font-size:11.0pt\;">The mission of La Porte Hospital is to improve the health of our patients and communities.</span></span>
LOCATION:The Crossing 1203 Washington Street La Porte
UID:e.1949.2965
SEQUENCE:3
DTSTAMP:20260424T193444Z
URL:https://members.laportepartnership.com/events/details/winter-welnessland-at-the-crossing-2965
END:VEVENT

END:VCALENDAR
